BEGIN:VCALENDAR
VERSION:2.0
PRODID:-//Sturbridge - ECPv6.15.20//NONSGML v1.0//EN
CALSCALE:GREGORIAN
METHOD:PUBLISH
X-WR-CALNAME:Sturbridge
X-ORIGINAL-URL:https://experiencesturbridge.com
X-WR-CALDESC:Events for Sturbridge
REFRESH-INTERVAL;VALUE=DURATION:PT1H
X-Robots-Tag:noindex
X-PUBLISHED-TTL:PT1H
BEGIN:VTIMEZONE
TZID:America/New_York
BEGIN:DAYLIGHT
TZOFFSETFROM:-0500
TZOFFSETTO:-0400
TZNAME:EDT
DTSTART:20210314T070000
END:DAYLIGHT
BEGIN:STANDARD
TZOFFSETFROM:-0400
TZOFFSETTO:-0500
TZNAME:EST
DTSTART:20211107T060000
END:STANDARD
BEGIN:DAYLIGHT
TZOFFSETFROM:-0500
TZOFFSETTO:-0400
TZNAME:EDT
DTSTART:20220313T070000
END:DAYLIGHT
BEGIN:STANDARD
TZOFFSETFROM:-0400
TZOFFSETTO:-0500
TZNAME:EST
DTSTART:20221106T060000
END:STANDARD
BEGIN:DAYLIGHT
TZOFFSETFROM:-0500
TZOFFSETTO:-0400
TZNAME:EDT
DTSTART:20230312T070000
END:DAYLIGHT
BEGIN:STANDARD
TZOFFSETFROM:-0400
TZOFFSETTO:-0500
TZNAME:EST
DTSTART:20231105T060000
END:STANDARD
END:VTIMEZONE
BEGIN:VEVENT
DTSTART;TZID=America/New_York:20220508T103000
DTEND;TZID=America/New_York:20220508T183000
DTSTAMP:20260421T235218
CREATED:20220502T182137Z
LAST-MODIFIED:20220502T182137Z
UID:10000612-1652005800-1652034600@experiencesturbridge.com
SUMMARY:Mother's Day at Publick House
DESCRIPTION:Treat the Moms in your life to something special this year and take them to the Mother’s Day Dinner Buffet at the Publick House Historic Inn!  At Publick House\, our holidays are remembered for good old-fashioned home cooked food and the perfect ambiance.  Reserve your table today for a truly delectable one- of- a-kind dining experience. \n277 Main  Street\, Sturbridge MA 01566
URL:https://experiencesturbridge.com/event/mothers-day-at-publick-house/
LOCATION:Publick House\, 277 Main Street\, Sturbridge\, 01566
ATTACH;FMTTYPE=image/jpeg:https://experiencesturbridge.com/wp-content/uploads/2021/10/DSC_0281.jpg
END:VEVENT
BEGIN:VEVENT
DTSTART;TZID=America/New_York:20220406T183000
DTEND;TZID=America/New_York:20220406T203000
DTSTAMP:20260421T235218
CREATED:20220303T212833Z
LAST-MODIFIED:20220303T212833Z
UID:10000600-1649269800-1649277000@experiencesturbridge.com
SUMMARY:Stewing Over Mysteries with Author Sarah Stewart Taylor
DESCRIPTION:The Joshua Hyde Public Libary presents “Stewing Over Mysteries” with author Sarah Stewart Taylor \nFor $16\, this event offers beef stew for dinner with rolls\, coffee & dessert\,  and a writer to entertain and enlighten\, all in the cozy atmosphere of one of the oldest taverns in MA. \nPublick House Tap Room\,  Sturbridge  – Wednesday\, April 6th – 6:30pm \nTickets are available at the Joshua Hyde Public Library and online at the Friends of the JHPL website \n\nSarah Stewart Taylor is the author of the Sweeney St. George series and the Maggie D’arcy series. She grew up on Long Island\, and was educated at Middlebury College in Vermont and Trinity College\, Dublin\, where she studied Irish Literature. She has worked as a journalist and writing teacher and now lives with her family on a farm in Vermont where they raise sheep and grow blueberries.
URL:https://experiencesturbridge.com/event/stewing-over-mysteries-with-author-sarah-stewart-taylor/
LOCATION:Publick House\, 277 Main Street\, Sturbridge\, 01566
ORGANIZER;CN="Joshua Hyde Public Library":MAILTO:sturbridgejhpl@cwmars.org
END:VEVENT
END:VCALENDAR