BEGIN:VCALENDAR
VERSION:2.0
PRODID:-//Sturbridge - ECPv6.15.20//NONSGML v1.0//EN
CALSCALE:GREGORIAN
METHOD:PUBLISH
X-WR-CALNAME:Sturbridge
X-ORIGINAL-URL:https://experiencesturbridge.com
X-WR-CALDESC:Events for Sturbridge
REFRESH-INTERVAL;VALUE=DURATION:PT1H
X-Robots-Tag:noindex
X-PUBLISHED-TTL:PT1H
BEGIN:VTIMEZONE
TZID:America/New_York
BEGIN:DAYLIGHT
TZOFFSETFROM:-0500
TZOFFSETTO:-0400
TZNAME:EDT
DTSTART:20250309T070000
END:DAYLIGHT
BEGIN:STANDARD
TZOFFSETFROM:-0400
TZOFFSETTO:-0500
TZNAME:EST
DTSTART:20251102T060000
END:STANDARD
BEGIN:DAYLIGHT
TZOFFSETFROM:-0500
TZOFFSETTO:-0400
TZNAME:EDT
DTSTART:20260308T070000
END:DAYLIGHT
BEGIN:STANDARD
TZOFFSETFROM:-0400
TZOFFSETTO:-0500
TZNAME:EST
DTSTART:20261101T060000
END:STANDARD
BEGIN:DAYLIGHT
TZOFFSETFROM:-0500
TZOFFSETTO:-0400
TZNAME:EDT
DTSTART:20270314T070000
END:DAYLIGHT
BEGIN:STANDARD
TZOFFSETFROM:-0400
TZOFFSETTO:-0500
TZNAME:EST
DTSTART:20271107T060000
END:STANDARD
END:VTIMEZONE
BEGIN:VEVENT
DTSTART;TZID=America/New_York:20260423T190000
DTEND;TZID=America/New_York:20260423T210000
DTSTAMP:20260421T175427
CREATED:20260410T190530Z
LAST-MODIFIED:20260410T190530Z
UID:10002983-1776970800-1776978000@experiencesturbridge.com
SUMMARY:Dragoon\, Musketeer\, Prisoner: The Hessians of the Revolutionary War in Western Massachusetts
DESCRIPTION:The Sturbridge Historical Society presents “Dragoon\, Musketeer\, Prisoner: The Hessians of the Revolutionary War in Western Massachusetts”\, by Dennis Picard on Thursday\, April 23\, at the Publick House \nWere the Hessian soldiers of the Revolutionary War period blood thirsty mercenaries purchased by King George III to fight in the rebellious colonies? Or were they draftees and recruits in a foreign land? On Thursday\, April 23\, 7:00 PM at the Publick House\, join Dennis Picard\, a “living history” interpreter\, to learn more about this poorly understood chapter in the American Revolution. Even though there were no battles during the Revolution in Western Massachusetts\, there were\, in fact\, Hessians here. Many of these troops passed through the area after their surrender at Saratoga and several worked as POWs on area farms. Hear how these men got to our area\, why they were here\, who they really were\, and in the end\, why some stayed. \nDennis D. Picard has been a museum professional in the “Living History” field for over forty years. He began his career at Old Sturbridge Village and worked there for twelve years filling various positions including “lead interpreter” where he researched and designed many public programs that are still offered by that institution today. He was the director of Storrowton Village from 1990-2017. He also is the recipient of various grants that allowed him to serve as project coordinator for research and implementation of programs and events at different sites. Since his retirement he has enjoyed his role as consultant historian/independent scholar. Dennis has presented various programs to the Sturbridge Historical Society\, and is always a popular speaker. \nThis program\, graciously hosted by the Publick House\, is free and open to the public. 
URL:https://experiencesturbridge.com/event/dragoon-musketeer-prisoner-the-hessians-of-the-revolutionary-war-in-western-massachusetts/
LOCATION:Publick House\, 277 Main Street\, Sturbridge\, 01566
ATTACH;FMTTYPE=image/jpeg:https://experiencesturbridge.com/wp-content/uploads/2026/04/joshua-hoehne-7s1j-DZ5KYQ-unsplash-scaled.jpg
ORGANIZER;CN="Sturbridge Historical Society":MAILTO:sgibquig@gmail.com
END:VEVENT
END:VCALENDAR