BEGIN:VCALENDAR
VERSION:2.0
PRODID:-//Sturbridge - ECPv6.15.20//NONSGML v1.0//EN
CALSCALE:GREGORIAN
METHOD:PUBLISH
X-WR-CALNAME:Sturbridge
X-ORIGINAL-URL:https://experiencesturbridge.com
X-WR-CALDESC:Events for Sturbridge
REFRESH-INTERVAL;VALUE=DURATION:PT1H
X-Robots-Tag:noindex
X-PUBLISHED-TTL:PT1H
BEGIN:VTIMEZONE
TZID:America/New_York
BEGIN:DAYLIGHT
TZOFFSETFROM:-0500
TZOFFSETTO:-0400
TZNAME:EDT
DTSTART:20210314T070000
END:DAYLIGHT
BEGIN:STANDARD
TZOFFSETFROM:-0400
TZOFFSETTO:-0500
TZNAME:EST
DTSTART:20211107T060000
END:STANDARD
BEGIN:DAYLIGHT
TZOFFSETFROM:-0500
TZOFFSETTO:-0400
TZNAME:EDT
DTSTART:20220313T070000
END:DAYLIGHT
BEGIN:STANDARD
TZOFFSETFROM:-0400
TZOFFSETTO:-0500
TZNAME:EST
DTSTART:20221106T060000
END:STANDARD
BEGIN:DAYLIGHT
TZOFFSETFROM:-0500
TZOFFSETTO:-0400
TZNAME:EDT
DTSTART:20230312T070000
END:DAYLIGHT
BEGIN:STANDARD
TZOFFSETFROM:-0400
TZOFFSETTO:-0500
TZNAME:EST
DTSTART:20231105T060000
END:STANDARD
END:VTIMEZONE
BEGIN:VEVENT
DTSTART;TZID=America/New_York:20220702T093000
DTEND;TZID=America/New_York:20220704T170000
DTSTAMP:20260422T221836
CREATED:20220701T215035Z
LAST-MODIFIED:20220701T215035Z
UID:10000783-1656754200-1656954000@experiencesturbridge.com
SUMMARY:Independence: 4th of July Celebrations
DESCRIPTION:This weekend\, July 2nd – 4th\, join us for citizens’ processions\, games\, special readings\, fife and drum music\, crafts\, and more! On July 4th only\, there will also be a Citizen Naturalization Ceremony and performances by the Old Sturbridge Village Singers and Old Sturbridge Village Dancers. \nLearn more and find schedules of timed activities at https://www.osv.org/event/independence-4th-of-july/
URL:https://experiencesturbridge.com/event/independence-4th-of-july-celebrations/
LOCATION:Old Sturbridge Village\, 1 Old Sturbridge Village Road\, Sturbridge\, 01566\, United States
ATTACH;FMTTYPE=image/jpeg:https://experiencesturbridge.com/wp-content/uploads/2022/07/Independence-Day-Celebrations-1280x427-1.jpg
END:VEVENT
BEGIN:VEVENT
DTSTART;TZID=America/New_York:20220702T093000
DTEND;TZID=America/New_York:20220704T170000
DTSTAMP:20260422T221836
CREATED:20220628T131819Z
LAST-MODIFIED:20220628T132037Z
UID:10000779-1656754200-1656954000@experiencesturbridge.com
SUMMARY:Old Sturbridge Village July 4th Weekend Events
DESCRIPTION:The July 4th weekend will be full of interactive events for people to enjoy\, observe and participate in.  Please check the Old Sturbridge Village (OSV) web site for their schedule of events for each day of this long holiday weekend. These days include Saturday July 2nd\, Sunday July 3rd and Monday July 4th.  See the attached links to the OSV web site and the link to their weekend schedule.
URL:https://experiencesturbridge.com/event/old-sturbridge-village-july-4th-weekend-events/
LOCATION:Old Sturbridge Village\, 1 Old Sturbridge Village Road\, Sturbridge\, 01566\, United States
ATTACH;FMTTYPE=image/jpeg:https://experiencesturbridge.com/wp-content/uploads/2022/06/Independence-Day-Celebrations-1-480x480-1.jpg
END:VEVENT
BEGIN:VEVENT
DTSTART;TZID=America/New_York:20220701T093000
DTEND;TZID=America/New_York:20220701T170000
DTSTAMP:20260422T221836
CREATED:20220628T133053Z
LAST-MODIFIED:20220628T133256Z
UID:10000780-1656667800-1656694800@experiencesturbridge.com
SUMMARY:Old Sturbridge Village Events: July 4th Weekend
DESCRIPTION:The  July 4th weekend at Old Sturbridge Village will be full of exciting\, entertaining and educational events for all to enjoy.  The schedule for Friday July 1st can be found on the attached links.
URL:https://experiencesturbridge.com/event/old-sturbridge-village-events-july-4th-weekend/
LOCATION:Old Sturbridge Village\, 1 Old Sturbridge Village Road\, Sturbridge\, 01566\, United States
ATTACH;FMTTYPE=image/jpeg:https://experiencesturbridge.com/wp-content/uploads/2022/06/Redcoats-and-Rebels-1-480x480-1.jpg
END:VEVENT
BEGIN:VEVENT
DTSTART;TZID=America/New_York:20220625T180000
DTEND;TZID=America/New_York:20220625T203000
DTSTAMP:20260422T221836
CREATED:20220530T174220Z
LAST-MODIFIED:20220530T174317Z
UID:10000678-1656180000-1656189000@experiencesturbridge.com
SUMMARY:Evening at Old Sturbridge Village
DESCRIPTION:Enjoy the Old Sturbridge Village campus after hours.  Live music by the HBH Band with horse drawn wagon rides and an evening bonfire.  Games for kids to enjoy.  Feel free to bring a picnic meal or access snacks and beveragaes at the Miner Grant Store.  Pre-registration required – see event link
URL:https://experiencesturbridge.com/event/evening-at-old-sturbridge-village/
LOCATION:Old Sturbridge Village\, 1 Old Sturbridge Village Road\, Sturbridge\, 01566\, United States
ATTACH;FMTTYPE=image/jpeg:https://experiencesturbridge.com/wp-content/uploads/2022/05/DSC_0897-scaled.jpg
END:VEVENT
BEGIN:VEVENT
DTSTART;TZID=America/New_York:20220620T093000
DTEND;TZID=America/New_York:20220620T170000
DTSTAMP:20260422T221836
CREATED:20220530T175826Z
LAST-MODIFIED:20220530T175948Z
UID:10000679-1655717400-1655744400@experiencesturbridge.com
SUMMARY:Juneteenth Observation at Old Sturbridge Village
DESCRIPTION:On June 20\, 2022\, we will celebrate and explore the history\, resilience\, and culture of Black people in America. We encourage visitors to consider the historical and present-day significance of Juneteenth through interactions with guest speakers and performers as well as Old Sturbridge Village’s costumed educators. Engage in discussions and ask questions. We will also welcome several special guests!
URL:https://experiencesturbridge.com/event/juneteenth-observation-at-old-sturbridge-village/
LOCATION:Old Sturbridge Village\, 1 Old Sturbridge Village Road\, Sturbridge\, 01566\, United States
ATTACH;FMTTYPE=image/jpeg:https://experiencesturbridge.com/wp-content/uploads/2022/03/DSC_0037-scaled.jpg
END:VEVENT
BEGIN:VEVENT
DTSTART;TZID=America/New_York:20220612T093000
DTEND;TZID=America/New_York:20220612T170000
DTSTAMP:20260422T221836
CREATED:20220531T013129Z
LAST-MODIFIED:20220531T013250Z
UID:10000701-1655026200-1655053200@experiencesturbridge.com
SUMMARY:Women's History Weekend - Old Sturbridge Village
DESCRIPTION:On Saturday\, June 11th and Sunday\, June 12th. How did 19th century women see themselves? How did society view the woman’s sphere? How do we view their lives today? Join Old Sturbridge Village as we acknowledge and celebrate extraordinary and everyday women in the early 19th century. Stop outside the historic houses of OSV to learn about how women ran their households\, managing the essential work of clothes construction\, cooking\, laundry\, and more. Join interpreters in the gardens for talks on indigenous plants\, medicine\, and discussions on the roles of women and children in gardening. Beyond the domestic sphere\, we will explore issues surrounding gender\, freedom\, and rights occurring during the 1830s through readings of first-person accounts from the 19th century.
URL:https://experiencesturbridge.com/event/womens-history-weekend-old-sturbridge-village/2022-06-12/
LOCATION:Old Sturbridge Village\, 1 Old Sturbridge Village Road\, Sturbridge\, 01566\, United States
ATTACH;FMTTYPE=image/jpeg:https://experiencesturbridge.com/wp-content/uploads/2021/09/5-49593529246_79258517f6_o.jpg
END:VEVENT
BEGIN:VEVENT
DTSTART;TZID=America/New_York:20220611T170000
DTEND;TZID=America/New_York:20220612T093000
DTSTAMP:20260422T221836
CREATED:20220531T014512Z
LAST-MODIFIED:20220531T014748Z
UID:10000702-1654966800-1655026200@experiencesturbridge.com
SUMMARY:Great Scout Campout! - Old Sturbridge Village
DESCRIPTION:Calling all Scouts and Families! Join us for a unique camping experience in the countryside of Old Sturbridge Village! On Saturday\, June 11\, Cub and Boy Scouts\, Girl Scouts\, and their families are invited to pitch their tents in the Village and enjoy an evening of tours and activities throughout the museum. The evening will be topped off with stories by a roaring bonfire. Not a scout? No problem: all families are welcome! \nParticipants will enjoy a barbeque dinner and a hot breakfast in the morning. Two-day admission to the Village is included.  Registration required by Friday June 3rd.
URL:https://experiencesturbridge.com/event/great-scout-campout-old-sturbridge-village/
LOCATION:Old Sturbridge Village\, 1 Old Sturbridge Village Road\, Sturbridge\, 01566\, United States
ATTACH;FMTTYPE=image/jpeg:https://experiencesturbridge.com/wp-content/uploads/2021/10/IMG_0915-scaled.jpg
END:VEVENT
BEGIN:VEVENT
DTSTART;TZID=America/New_York:20220611T093000
DTEND;TZID=America/New_York:20220611T170000
DTSTAMP:20260422T221836
CREATED:20220531T013129Z
LAST-MODIFIED:20220531T013250Z
UID:10000700-1654939800-1654966800@experiencesturbridge.com
SUMMARY:Women's History Weekend - Old Sturbridge Village
DESCRIPTION:On Saturday\, June 11th and Sunday\, June 12th. How did 19th century women see themselves? How did society view the woman’s sphere? How do we view their lives today? Join Old Sturbridge Village as we acknowledge and celebrate extraordinary and everyday women in the early 19th century. Stop outside the historic houses of OSV to learn about how women ran their households\, managing the essential work of clothes construction\, cooking\, laundry\, and more. Join interpreters in the gardens for talks on indigenous plants\, medicine\, and discussions on the roles of women and children in gardening. Beyond the domestic sphere\, we will explore issues surrounding gender\, freedom\, and rights occurring during the 1830s through readings of first-person accounts from the 19th century.
URL:https://experiencesturbridge.com/event/womens-history-weekend-old-sturbridge-village/2022-06-11/
LOCATION:Old Sturbridge Village\, 1 Old Sturbridge Village Road\, Sturbridge\, 01566\, United States
ATTACH;FMTTYPE=image/jpeg:https://experiencesturbridge.com/wp-content/uploads/2021/09/5-49593529246_79258517f6_o.jpg
END:VEVENT
BEGIN:VEVENT
DTSTART;TZID=America/New_York:20220530T093000
DTEND;TZID=America/New_York:20220530T170000
DTSTAMP:20260422T221836
CREATED:20220512T204125Z
LAST-MODIFIED:20220512T204217Z
UID:10000538-1653903000-1653930000@experiencesturbridge.com
SUMMARY:Wool Days
DESCRIPTION:Discover how New England farmers used the wool from their sheep in the 1830’s at Old Sturbridge Village’s annual sheep shearing event.  Throughout the weekend\, farmers will shear our  sheep and costumed historians will demonstrate the entire wool process from collecting wool\, scouring\, carding to dyeing\, spinning and then knitting the hand-spun yarn.
URL:https://experiencesturbridge.com/event/wool-days/2022-05-30/
LOCATION:Old Sturbridge Village\, 1 Old Sturbridge Village Road\, Sturbridge\, 01566\, United States
ATTACH;FMTTYPE=image/jpeg:https://experiencesturbridge.com/wp-content/uploads/2022/05/DSC_0046-scaled.jpg
END:VEVENT
BEGIN:VEVENT
DTSTART;TZID=America/New_York:20220529T093000
DTEND;TZID=America/New_York:20220529T170000
DTSTAMP:20260422T221836
CREATED:20220512T204125Z
LAST-MODIFIED:20220512T204217Z
UID:10000537-1653816600-1653843600@experiencesturbridge.com
SUMMARY:Wool Days
DESCRIPTION:Discover how New England farmers used the wool from their sheep in the 1830’s at Old Sturbridge Village’s annual sheep shearing event.  Throughout the weekend\, farmers will shear our  sheep and costumed historians will demonstrate the entire wool process from collecting wool\, scouring\, carding to dyeing\, spinning and then knitting the hand-spun yarn.
URL:https://experiencesturbridge.com/event/wool-days/2022-05-29/
LOCATION:Old Sturbridge Village\, 1 Old Sturbridge Village Road\, Sturbridge\, 01566\, United States
ATTACH;FMTTYPE=image/jpeg:https://experiencesturbridge.com/wp-content/uploads/2022/05/DSC_0046-scaled.jpg
END:VEVENT
BEGIN:VEVENT
DTSTART;TZID=America/New_York:20220528T093000
DTEND;TZID=America/New_York:20220528T170000
DTSTAMP:20260422T221836
CREATED:20220512T204125Z
LAST-MODIFIED:20220512T204217Z
UID:10000536-1653730200-1653757200@experiencesturbridge.com
SUMMARY:Wool Days
DESCRIPTION:Discover how New England farmers used the wool from their sheep in the 1830’s at Old Sturbridge Village’s annual sheep shearing event.  Throughout the weekend\, farmers will shear our  sheep and costumed historians will demonstrate the entire wool process from collecting wool\, scouring\, carding to dyeing\, spinning and then knitting the hand-spun yarn.
URL:https://experiencesturbridge.com/event/wool-days/2022-05-28/
LOCATION:Old Sturbridge Village\, 1 Old Sturbridge Village Road\, Sturbridge\, 01566\, United States
ATTACH;FMTTYPE=image/jpeg:https://experiencesturbridge.com/wp-content/uploads/2022/05/DSC_0046-scaled.jpg
END:VEVENT
END:VCALENDAR