BEGIN:VCALENDAR
VERSION:2.0
PRODID:-//Sturbridge - ECPv6.15.20//NONSGML v1.0//EN
CALSCALE:GREGORIAN
METHOD:PUBLISH
X-WR-CALNAME:Sturbridge
X-ORIGINAL-URL:https://experiencesturbridge.com
X-WR-CALDESC:Events for Sturbridge
REFRESH-INTERVAL;VALUE=DURATION:PT1H
X-Robots-Tag:noindex
X-PUBLISHED-TTL:PT1H
BEGIN:VTIMEZONE
TZID:America/New_York
BEGIN:DAYLIGHT
TZOFFSETFROM:-0500
TZOFFSETTO:-0400
TZNAME:EDT
DTSTART:20210314T070000
END:DAYLIGHT
BEGIN:STANDARD
TZOFFSETFROM:-0400
TZOFFSETTO:-0500
TZNAME:EST
DTSTART:20211107T060000
END:STANDARD
BEGIN:DAYLIGHT
TZOFFSETFROM:-0500
TZOFFSETTO:-0400
TZNAME:EDT
DTSTART:20220313T070000
END:DAYLIGHT
BEGIN:STANDARD
TZOFFSETFROM:-0400
TZOFFSETTO:-0500
TZNAME:EST
DTSTART:20221106T060000
END:STANDARD
BEGIN:DAYLIGHT
TZOFFSETFROM:-0500
TZOFFSETTO:-0400
TZNAME:EDT
DTSTART:20230312T070000
END:DAYLIGHT
BEGIN:STANDARD
TZOFFSETFROM:-0400
TZOFFSETTO:-0500
TZNAME:EST
DTSTART:20231105T060000
END:STANDARD
BEGIN:DAYLIGHT
TZOFFSETFROM:-0500
TZOFFSETTO:-0400
TZNAME:EDT
DTSTART:20240310T070000
END:DAYLIGHT
BEGIN:STANDARD
TZOFFSETFROM:-0400
TZOFFSETTO:-0500
TZNAME:EST
DTSTART:20241103T060000
END:STANDARD
BEGIN:DAYLIGHT
TZOFFSETFROM:-0500
TZOFFSETTO:-0400
TZNAME:EDT
DTSTART:20250309T070000
END:DAYLIGHT
BEGIN:STANDARD
TZOFFSETFROM:-0400
TZOFFSETTO:-0500
TZNAME:EST
DTSTART:20251102T060000
END:STANDARD
END:VTIMEZONE
BEGIN:VEVENT
DTSTART;TZID=America/New_York:20240820T183000
DTEND;TZID=America/New_York:20240820T193000
DTSTAMP:20260422T143231
CREATED:20240731T141000Z
LAST-MODIFIED:20240731T141001Z
UID:10001490-1724178600-1724182200@experiencesturbridge.com
SUMMARY:Sunset Yoga at Hyland Orchard & Pavilion
DESCRIPTION:Hyland Orchard and Historic Yoga are honored to introduce Sunset Yoga Tuesdays at 6:30pm. Join us for an unforgettable yoga experience surrounded by the beauty of nature\, offered during the warmer months from May through September. Enjoy yoga at the Hyland Orchard Pavilion with the beautiful outdoors and sunset within view. Expect a 60-75 min class. \nPlease bring a mat\, blanket\, water and whatever else to make yourself comfortable\, as we will not have access to props that we usually use. Bring blocks or any other props if you have them. An extra layer of clothing may be nice to have as well. All levels welcome\, Beginner to Intermediate friendly.
URL:https://experiencesturbridge.com/event/sunset-yoga-at-hyland-orchard-pavilion-2/2024-08-20/
LOCATION:Hyland Orchard\, 199 Arnold Road\, Fiskdale\, MA\, 01518\, United States
ATTACH;FMTTYPE=image/jpeg:https://experiencesturbridge.com/wp-content/uploads/2024/07/pexels-rui-dias-469842-1472887-scaled.jpg
END:VEVENT
BEGIN:VEVENT
DTSTART;TZID=America/New_York:20240813T183000
DTEND;TZID=America/New_York:20240813T193000
DTSTAMP:20260422T143231
CREATED:20240731T141000Z
LAST-MODIFIED:20240731T141001Z
UID:10001489-1723573800-1723577400@experiencesturbridge.com
SUMMARY:Sunset Yoga at Hyland Orchard & Pavilion
DESCRIPTION:Hyland Orchard and Historic Yoga are honored to introduce Sunset Yoga Tuesdays at 6:30pm. Join us for an unforgettable yoga experience surrounded by the beauty of nature\, offered during the warmer months from May through September. Enjoy yoga at the Hyland Orchard Pavilion with the beautiful outdoors and sunset within view. Expect a 60-75 min class. \nPlease bring a mat\, blanket\, water and whatever else to make yourself comfortable\, as we will not have access to props that we usually use. Bring blocks or any other props if you have them. An extra layer of clothing may be nice to have as well. All levels welcome\, Beginner to Intermediate friendly.
URL:https://experiencesturbridge.com/event/sunset-yoga-at-hyland-orchard-pavilion-2/2024-08-13/
LOCATION:Hyland Orchard\, 199 Arnold Road\, Fiskdale\, MA\, 01518\, United States
ATTACH;FMTTYPE=image/jpeg:https://experiencesturbridge.com/wp-content/uploads/2024/07/pexels-rui-dias-469842-1472887-scaled.jpg
END:VEVENT
BEGIN:VEVENT
DTSTART;TZID=America/New_York:20240806T183000
DTEND;TZID=America/New_York:20240806T193000
DTSTAMP:20260422T143231
CREATED:20240731T141000Z
LAST-MODIFIED:20240731T141001Z
UID:10001488-1722969000-1722972600@experiencesturbridge.com
SUMMARY:Sunset Yoga at Hyland Orchard & Pavilion
DESCRIPTION:Hyland Orchard and Historic Yoga are honored to introduce Sunset Yoga Tuesdays at 6:30pm. Join us for an unforgettable yoga experience surrounded by the beauty of nature\, offered during the warmer months from May through September. Enjoy yoga at the Hyland Orchard Pavilion with the beautiful outdoors and sunset within view. Expect a 60-75 min class. \nPlease bring a mat\, blanket\, water and whatever else to make yourself comfortable\, as we will not have access to props that we usually use. Bring blocks or any other props if you have them. An extra layer of clothing may be nice to have as well. All levels welcome\, Beginner to Intermediate friendly.
URL:https://experiencesturbridge.com/event/sunset-yoga-at-hyland-orchard-pavilion-2/2024-08-06/
LOCATION:Hyland Orchard\, 199 Arnold Road\, Fiskdale\, MA\, 01518\, United States
ATTACH;FMTTYPE=image/jpeg:https://experiencesturbridge.com/wp-content/uploads/2024/07/pexels-rui-dias-469842-1472887-scaled.jpg
END:VEVENT
BEGIN:VEVENT
DTSTART;TZID=America/New_York:20240730T183000
DTEND;TZID=America/New_York:20240730T193000
DTSTAMP:20260422T143231
CREATED:20240717T151752Z
LAST-MODIFIED:20240717T224000Z
UID:10001487-1722364200-1722367800@experiencesturbridge.com
SUMMARY:Sunset Yoga at Hyland Orchard & Pavilion
DESCRIPTION:Hyland Orchard and Historic Yoga are honored to introduce Sunset Yoga Tuesdays at 6:30pm. Join us for an unforgettable yoga experience surrounded by the beauty of nature\, offered during the warmer months from May through September. Enjoy yoga at the Hyland Orchard Pavilion with the beautiful outdoors and sunset within view. Expect a 60-75 min class. \nPlease bring a mat\, blanket\, water and whatever else to make yourself comfortable\, as we will not have access to props that we usually use. Bring blocks or any other props if you have them. An extra layer of clothing may be nice to have as well. All levels welcome\, Beginner to Intermediate friendly.
URL:https://experiencesturbridge.com/event/sunset-yoga-at-hyland-orchard-pavilion/2024-07-30/
LOCATION:Hyland Orchard\, 199 Arnold Road\, Fiskdale\, MA\, 01518\, United States
ATTACH;FMTTYPE=image/jpeg:https://experiencesturbridge.com/wp-content/uploads/2024/07/pexels-rui-dias-469842-1472887-scaled.jpg
END:VEVENT
BEGIN:VEVENT
DTSTART;TZID=America/New_York:20240723T183000
DTEND;TZID=America/New_York:20240723T193000
DTSTAMP:20260422T143231
CREATED:20240717T151752Z
LAST-MODIFIED:20240717T224000Z
UID:10001486-1721759400-1721763000@experiencesturbridge.com
SUMMARY:Sunset Yoga at Hyland Orchard & Pavilion
DESCRIPTION:Hyland Orchard and Historic Yoga are honored to introduce Sunset Yoga Tuesdays at 6:30pm. Join us for an unforgettable yoga experience surrounded by the beauty of nature\, offered during the warmer months from May through September. Enjoy yoga at the Hyland Orchard Pavilion with the beautiful outdoors and sunset within view. Expect a 60-75 min class. \nPlease bring a mat\, blanket\, water and whatever else to make yourself comfortable\, as we will not have access to props that we usually use. Bring blocks or any other props if you have them. An extra layer of clothing may be nice to have as well. All levels welcome\, Beginner to Intermediate friendly.
URL:https://experiencesturbridge.com/event/sunset-yoga-at-hyland-orchard-pavilion/2024-07-23/
LOCATION:Hyland Orchard\, 199 Arnold Road\, Fiskdale\, MA\, 01518\, United States
ATTACH;FMTTYPE=image/jpeg:https://experiencesturbridge.com/wp-content/uploads/2024/07/pexels-rui-dias-469842-1472887-scaled.jpg
END:VEVENT
BEGIN:VEVENT
DTSTART;TZID=America/New_York:20221009T130000
DTEND;TZID=America/New_York:20221009T150000
DTSTAMP:20260422T143231
CREATED:20220915T001625Z
LAST-MODIFIED:20220915T001625Z
UID:10000884-1665320400-1665327600@experiencesturbridge.com
SUMMARY:StompBoxTrio @ Hyland Orchard
DESCRIPTION:Come see StompBoxTrio for free at Hyland Orchard! \nStompBoxTrio blends classic 20th-century American blues\, funk & soul with 21st-century mojo to create a sonic soulful sound all their own The trio consists of Evelyn Harris on vocals & percussion\, John Cabán on “Dobro” steel guitar\, vocals & stompbox\, and Paul Kochanski on wood bass\, vocals & foot tambourine.
URL:https://experiencesturbridge.com/event/stompboxtrio-hyland-orchard/
LOCATION:Hyland Orchard\, 199 Arnold Road\, Fiskdale\, MA\, 01518\, United States
ATTACH;FMTTYPE=image/jpeg:https://experiencesturbridge.com/wp-content/uploads/2022/09/Screen-Shot-2022-09-14-at-8.14.59-PM.jpg
END:VEVENT
BEGIN:VEVENT
DTSTART;TZID=America/New_York:20220717T120000
DTEND;TZID=America/New_York:20220717T180000
DTSTAMP:20260422T143231
CREATED:20220630T175352Z
LAST-MODIFIED:20220630T175352Z
UID:10000782-1658059200-1658080800@experiencesturbridge.com
SUMMARY:Live Musicians and Artists: Hyland Orchards
DESCRIPTION:Hyland Orchards will be the place to be on Sunday July 17th (12pm to 6pm) for a day of music and art.  This event will also be  a tribute to the work of Dick Chase as well.  There will be an art exhibit by 8 artists and music performed by 10 bands.
URL:https://experiencesturbridge.com/event/live-musicians-and-artists-hyland-orchards/
LOCATION:Hyland Orchard\, 199 Arnold Road\, Fiskdale\, MA\, 01518\, United States
ATTACH;FMTTYPE=image/jpeg:https://experiencesturbridge.com/wp-content/uploads/2021/11/DSC_0378.jpg
END:VEVENT
BEGIN:VEVENT
DTSTART;TZID=America/New_York:20220612T120000
DTEND;TZID=America/New_York:20220612T180000
DTSTAMP:20260422T143231
CREATED:20220506T171133Z
LAST-MODIFIED:20220506T171133Z
UID:10000529-1655035200-1655056800@experiencesturbridge.com
SUMMARY:Memory Mile Walk for Alzheimer's Association
DESCRIPTION:Join in the efforts to walk together to raise research dollars for the Alzheimer’s Association.  Together the strength of our light will outshine the darkness of Alzheimers.  The event will include a Food Truck from BT Smokehouse. Live music by: Specific Gravity and 11 On the Outside.
URL:https://experiencesturbridge.com/event/memory-mile-walk-for-alzheimers-association/
LOCATION:Hyland Orchard\, 199 Arnold Road\, Fiskdale\, MA\, 01518\, United States
ATTACH;FMTTYPE=image/jpeg:https://experiencesturbridge.com/wp-content/uploads/2021/10/AdobeStock_57091173.jpg
END:VEVENT
END:VCALENDAR