BEGIN:VCALENDAR
VERSION:2.0
PRODID:-//Sturbridge - ECPv6.15.20//NONSGML v1.0//EN
CALSCALE:GREGORIAN
METHOD:PUBLISH
X-WR-CALNAME:Sturbridge
X-ORIGINAL-URL:https://experiencesturbridge.com
X-WR-CALDESC:Events for Sturbridge
REFRESH-INTERVAL;VALUE=DURATION:PT1H
X-Robots-Tag:noindex
X-PUBLISHED-TTL:PT1H
BEGIN:VTIMEZONE
TZID:America/New_York
BEGIN:DAYLIGHT
TZOFFSETFROM:-0500
TZOFFSETTO:-0400
TZNAME:EDT
DTSTART:20210314T070000
END:DAYLIGHT
BEGIN:STANDARD
TZOFFSETFROM:-0400
TZOFFSETTO:-0500
TZNAME:EST
DTSTART:20211107T060000
END:STANDARD
BEGIN:DAYLIGHT
TZOFFSETFROM:-0500
TZOFFSETTO:-0400
TZNAME:EDT
DTSTART:20220313T070000
END:DAYLIGHT
BEGIN:STANDARD
TZOFFSETFROM:-0400
TZOFFSETTO:-0500
TZNAME:EST
DTSTART:20221106T060000
END:STANDARD
BEGIN:DAYLIGHT
TZOFFSETFROM:-0500
TZOFFSETTO:-0400
TZNAME:EDT
DTSTART:20230312T070000
END:DAYLIGHT
BEGIN:STANDARD
TZOFFSETFROM:-0400
TZOFFSETTO:-0500
TZNAME:EST
DTSTART:20231105T060000
END:STANDARD
END:VTIMEZONE
BEGIN:VEVENT
DTSTART;TZID=America/New_York:20220701T160000
DTEND;TZID=America/New_York:20220701T200000
DTSTAMP:20260421T132344
CREATED:20220528T201245Z
LAST-MODIFIED:20220919T195834Z
UID:10000622-1656691200-1656705600@experiencesturbridge.com
SUMMARY:Friday Classic Car Cruise @ Brimfield Winery
DESCRIPTION:Come see great classic cars every Friday night from May through September with music by Bruce Marshall of 97.7
URL:https://experiencesturbridge.com/event/friday-classic-car-cruise-brimfield-winery/2022-07-01/
LOCATION:Brimfield Winery\, 35 Main Street\, Brimfield\, MA\, 01010\, United States
ATTACH;FMTTYPE=image/jpeg:https://experiencesturbridge.com/wp-content/uploads/2022/05/DSC_0912-scaled.jpg
END:VEVENT
BEGIN:VEVENT
DTSTART;TZID=America/New_York:20220624T160000
DTEND;TZID=America/New_York:20220624T200000
DTSTAMP:20260421T132344
CREATED:20220528T201245Z
LAST-MODIFIED:20220919T195834Z
UID:10000621-1656086400-1656100800@experiencesturbridge.com
SUMMARY:Friday Classic Car Cruise @ Brimfield Winery
DESCRIPTION:Come see great classic cars every Friday night from May through September with music by Bruce Marshall of 97.7
URL:https://experiencesturbridge.com/event/friday-classic-car-cruise-brimfield-winery/2022-06-24/
LOCATION:Brimfield Winery\, 35 Main Street\, Brimfield\, MA\, 01010\, United States
ATTACH;FMTTYPE=image/jpeg:https://experiencesturbridge.com/wp-content/uploads/2022/05/DSC_0912-scaled.jpg
END:VEVENT
BEGIN:VEVENT
DTSTART;TZID=America/New_York:20220617T160000
DTEND;TZID=America/New_York:20220617T200000
DTSTAMP:20260421T132344
CREATED:20220528T201245Z
LAST-MODIFIED:20220919T195834Z
UID:10000620-1655481600-1655496000@experiencesturbridge.com
SUMMARY:Friday Classic Car Cruise @ Brimfield Winery
DESCRIPTION:Come see great classic cars every Friday night from May through September with music by Bruce Marshall of 97.7
URL:https://experiencesturbridge.com/event/friday-classic-car-cruise-brimfield-winery/2022-06-17/
LOCATION:Brimfield Winery\, 35 Main Street\, Brimfield\, MA\, 01010\, United States
ATTACH;FMTTYPE=image/jpeg:https://experiencesturbridge.com/wp-content/uploads/2022/05/DSC_0912-scaled.jpg
END:VEVENT
BEGIN:VEVENT
DTSTART;TZID=America/New_York:20220610T160000
DTEND;TZID=America/New_York:20220610T200000
DTSTAMP:20260421T132344
CREATED:20220528T201245Z
LAST-MODIFIED:20220919T195834Z
UID:10000619-1654876800-1654891200@experiencesturbridge.com
SUMMARY:Friday Classic Car Cruise @ Brimfield Winery
DESCRIPTION:Come see great classic cars every Friday night from May through September with music by Bruce Marshall of 97.7
URL:https://experiencesturbridge.com/event/friday-classic-car-cruise-brimfield-winery/2022-06-10/
LOCATION:Brimfield Winery\, 35 Main Street\, Brimfield\, MA\, 01010\, United States
ATTACH;FMTTYPE=image/jpeg:https://experiencesturbridge.com/wp-content/uploads/2022/05/DSC_0912-scaled.jpg
END:VEVENT
BEGIN:VEVENT
DTSTART;TZID=America/New_York:20220604T140000
DTEND;TZID=America/New_York:20220604T170000
DTSTAMP:20260421T132344
CREATED:20220528T202658Z
LAST-MODIFIED:20220528T202658Z
UID:10000634-1654351200-1654362000@experiencesturbridge.com
SUMMARY:Live Music by Moody Creek at Brimfield Winery
DESCRIPTION:Live music by Moody Creek\, a coffee house style band with an electic blend of music from the 1960’s to today.  Food truck offerings by Roosters Roaming Cantina. \nhttps://www.facebook.com/moodycreekstudio/
URL:https://experiencesturbridge.com/event/live-music-by-moody-creek-at-brimfield-winery/
LOCATION:Brimfield Winery\, 35 Main Street\, Brimfield\, MA\, 01010\, United States
ATTACH;FMTTYPE=image/jpeg:https://experiencesturbridge.com/wp-content/uploads/2022/05/DSC_0912-scaled.jpg
ORGANIZER;CN="Brimfield Winery":MAILTO:brimfieldwineryevents@gmail.com
END:VEVENT
BEGIN:VEVENT
DTSTART;TZID=America/New_York:20220603T160000
DTEND;TZID=America/New_York:20220603T200000
DTSTAMP:20260421T132344
CREATED:20220528T201245Z
LAST-MODIFIED:20220919T195834Z
UID:10000618-1654272000-1654286400@experiencesturbridge.com
SUMMARY:Friday Classic Car Cruise @ Brimfield Winery
DESCRIPTION:Come see great classic cars every Friday night from May through September with music by Bruce Marshall of 97.7
URL:https://experiencesturbridge.com/event/friday-classic-car-cruise-brimfield-winery/2022-06-03/
LOCATION:Brimfield Winery\, 35 Main Street\, Brimfield\, MA\, 01010\, United States
ATTACH;FMTTYPE=image/jpeg:https://experiencesturbridge.com/wp-content/uploads/2022/05/DSC_0912-scaled.jpg
END:VEVENT
BEGIN:VEVENT
DTSTART;TZID=America/New_York:20220529T140000
DTEND;TZID=America/New_York:20220529T170000
DTSTAMP:20260421T132344
CREATED:20220528T194750Z
LAST-MODIFIED:20220528T195233Z
UID:10000577-1653832800-1653843600@experiencesturbridge.com
SUMMARY:Live Music by the Acoustic Fever Trio Band
DESCRIPTION:Come  visit the Brimfield Winery and hear the Acoustic Fever Trio Band. Food will be offered by the Rooster’s Roaming Cantina Food Truck
URL:https://experiencesturbridge.com/event/live-music-by-the-acoustic-fever-trio-band/
LOCATION:Brimfield Winery\, 35 Main Street\, Brimfield\, MA\, 01010\, United States
ATTACH;FMTTYPE=image/jpeg:https://experiencesturbridge.com/wp-content/uploads/2022/05/DSC_0912-scaled.jpg
END:VEVENT
BEGIN:VEVENT
DTSTART;TZID=America/New_York:20220528T120000
DTEND;TZID=America/New_York:20220528T180000
DTSTAMP:20260421T132344
CREATED:20220528T193744Z
LAST-MODIFIED:20220528T193744Z
UID:10000575-1653739200-1653760800@experiencesturbridge.com
SUMMARY:Brimfield Winery Caribbean Food Truck Live Music
DESCRIPTION:Enjoy all the Caribbean Press Food Truck has to offer with live music from Party of 2!
URL:https://experiencesturbridge.com/event/brimfield-winery-caribbean-food-truck-live-music/
LOCATION:Brimfield Winery\, 35 Main Street\, Brimfield\, MA\, 01010\, United States
ATTACH;FMTTYPE=image/jpeg:https://experiencesturbridge.com/wp-content/uploads/2022/05/DSC_0912-scaled.jpg
END:VEVENT
END:VCALENDAR