BEGIN:VCALENDAR
VERSION:2.0
PRODID:-//Sturbridge - ECPv6.15.20//NONSGML v1.0//EN
CALSCALE:GREGORIAN
METHOD:PUBLISH
X-WR-CALNAME:Sturbridge
X-ORIGINAL-URL:https://experiencesturbridge.com
X-WR-CALDESC:Events for Sturbridge
REFRESH-INTERVAL;VALUE=DURATION:PT1H
X-Robots-Tag:noindex
X-PUBLISHED-TTL:PT1H
BEGIN:VTIMEZONE
TZID:America/New_York
BEGIN:DAYLIGHT
TZOFFSETFROM:-0500
TZOFFSETTO:-0400
TZNAME:EDT
DTSTART:20210314T070000
END:DAYLIGHT
BEGIN:STANDARD
TZOFFSETFROM:-0400
TZOFFSETTO:-0500
TZNAME:EST
DTSTART:20211107T060000
END:STANDARD
BEGIN:DAYLIGHT
TZOFFSETFROM:-0500
TZOFFSETTO:-0400
TZNAME:EDT
DTSTART:20220313T070000
END:DAYLIGHT
BEGIN:STANDARD
TZOFFSETFROM:-0400
TZOFFSETTO:-0500
TZNAME:EST
DTSTART:20221106T060000
END:STANDARD
BEGIN:DAYLIGHT
TZOFFSETFROM:-0500
TZOFFSETTO:-0400
TZNAME:EDT
DTSTART:20230312T070000
END:DAYLIGHT
BEGIN:STANDARD
TZOFFSETFROM:-0400
TZOFFSETTO:-0500
TZNAME:EST
DTSTART:20231105T060000
END:STANDARD
END:VTIMEZONE
BEGIN:VEVENT
DTSTART;TZID=America/New_York:20221002T120000
DTEND;TZID=America/New_York:20221002T200000
DTSTAMP:20260421T071456
CREATED:20220922T210847Z
LAST-MODIFIED:20220922T211523Z
UID:10000893-1664712000-1664740800@experiencesturbridge.com
SUMMARY:Oktoberfest at Brimfield Winery
DESCRIPTION:Rapscallion and Brimfield Winery’s Oktoberfest is back along with the 2022 release of our hand-brewed “O-Fest” beer. Join us for a festive weekend with food trucks\, live music\, cedar and wine from the Brimfield Winery during a beautiful Fall weekend. \nSaturday October 1st schedule is:\n12pm to 8pm:\n+ Music by Cobblestone Road\n+ Food Truck: The Thai Truck \nSunday October 2nd:\n12pm to 8pm\n+ Food by Cousin’s Maine Lobster and The Shuck Food Truck \n  \n 
URL:https://experiencesturbridge.com/event/oktoberfest-at-brimfield-winery/2022-10-02/
LOCATION:Brimfield Winery\, 35 Main Street\, Brimfield\, MA\, 01010\, United States
ATTACH;FMTTYPE=image/jpeg:https://experiencesturbridge.com/wp-content/uploads/2022/05/DSC_0914-scaled.jpg
ORGANIZER;CN="Brimfield Winery":MAILTO:brimfieldwineryevents@gmail.com
END:VEVENT
BEGIN:VEVENT
DTSTART;TZID=America/New_York:20221001T120000
DTEND;TZID=America/New_York:20221001T200000
DTSTAMP:20260421T071456
CREATED:20220922T210847Z
LAST-MODIFIED:20220922T211523Z
UID:10000892-1664625600-1664654400@experiencesturbridge.com
SUMMARY:Oktoberfest at Brimfield Winery
DESCRIPTION:Rapscallion and Brimfield Winery’s Oktoberfest is back along with the 2022 release of our hand-brewed “O-Fest” beer. Join us for a festive weekend with food trucks\, live music\, cedar and wine from the Brimfield Winery during a beautiful Fall weekend. \nSaturday October 1st schedule is:\n12pm to 8pm:\n+ Music by Cobblestone Road\n+ Food Truck: The Thai Truck \nSunday October 2nd:\n12pm to 8pm\n+ Food by Cousin’s Maine Lobster and The Shuck Food Truck \n  \n 
URL:https://experiencesturbridge.com/event/oktoberfest-at-brimfield-winery/2022-10-01/
LOCATION:Brimfield Winery\, 35 Main Street\, Brimfield\, MA\, 01010\, United States
ATTACH;FMTTYPE=image/jpeg:https://experiencesturbridge.com/wp-content/uploads/2022/05/DSC_0914-scaled.jpg
ORGANIZER;CN="Brimfield Winery":MAILTO:brimfieldwineryevents@gmail.com
END:VEVENT
BEGIN:VEVENT
DTSTART;TZID=America/New_York:20220925T063000
DTEND;TZID=America/New_York:20220925T160000
DTSTAMP:20260421T071456
CREATED:20220621T211920Z
LAST-MODIFIED:20220621T211920Z
UID:10000746-1664087400-1664121600@experiencesturbridge.com
SUMMARY:"Tour Opacum"  Bike Ride
DESCRIPTION:Join Opacum Land Trust for a spectacular scenic bike ride through several of the conservation properties in Brimfield\, Sturbridge\, Monson and surrounding towns.  The bike tour will end at the Brimfield Winery and Cidery for a  party sponsored by Rapscallion Brewery which will include hand brewed “Raps” beer\, wine\, live music\, games and more.  Proceeds from the ride will help Opacum Land Trust in their work to protecting outdoor spaces for all to enjoy.
URL:https://experiencesturbridge.com/event/tour-opacum-bike-ride/
LOCATION:Brimfield Winery\, 35 Main Street\, Brimfield\, MA\, 01010\, United States
ATTACH;FMTTYPE=image/jpeg:https://experiencesturbridge.com/wp-content/uploads/2021/09/20210803_Sturbridge_1235.jpg
END:VEVENT
BEGIN:VEVENT
DTSTART;TZID=America/New_York:20220923T160000
DTEND;TZID=America/New_York:20220923T200000
DTSTAMP:20260421T071456
CREATED:20220528T201245Z
LAST-MODIFIED:20220919T195834Z
UID:10000633-1663948800-1663963200@experiencesturbridge.com
SUMMARY:Friday Classic Car Cruise @ Brimfield Winery
DESCRIPTION:Come see great classic cars every Friday night from May through September with music by Bruce Marshall of 97.7
URL:https://experiencesturbridge.com/event/friday-classic-car-cruise-brimfield-winery/2022-09-23/
LOCATION:Brimfield Winery\, 35 Main Street\, Brimfield\, MA\, 01010\, United States
ATTACH;FMTTYPE=image/jpeg:https://experiencesturbridge.com/wp-content/uploads/2022/05/DSC_0912-scaled.jpg
END:VEVENT
BEGIN:VEVENT
DTSTART;TZID=America/New_York:20220918T080000
DTEND;TZID=America/New_York:20220918T170000
DTSTAMP:20260421T071456
CREATED:20220919T202516Z
LAST-MODIFIED:20220919T202621Z
UID:10000886-1663488000-1663520400@experiencesturbridge.com
SUMMARY:Doubles and Bubbles Volleyball Tournament
DESCRIPTION:Enjoy great scenery\, competitive volleyball and delicious beverages at this well attended event.  The “Traveling Foodie” Food Truck from New Hampshire will be serving great dishes.  Dogs on leashes welcome.  The last tournament was sold out so register early.
URL:https://experiencesturbridge.com/event/doubles-and-bubbles-volleyball-tournament/
LOCATION:Brimfield Winery\, 35 Main Street\, Brimfield\, MA\, 01010\, United States
ATTACH;FMTTYPE=image/jpeg:https://experiencesturbridge.com/wp-content/uploads/2022/05/DSC_0912-scaled.jpg
ORGANIZER;CN="Brimfield Winery":MAILTO:brimfieldwineryevents@gmail.com
END:VEVENT
BEGIN:VEVENT
DTSTART;TZID=America/New_York:20220917T140000
DTEND;TZID=America/New_York:20220917T170000
DTSTAMP:20260421T071456
CREATED:20220919T201106Z
LAST-MODIFIED:20220919T201315Z
UID:10000885-1663423200-1663434000@experiencesturbridge.com
SUMMARY:Kayla Barone\, Vocalist\, to Sing at the Brimfield Wine Garden
DESCRIPTION:Kyla Barone\, a  unique and talented vocalist from New York City will bring her soul and enjoyment to the Brimfield Wine Garden.
URL:https://experiencesturbridge.com/event/kayla-barone-vocalist-at-the-brimfield-winery/
LOCATION:Brimfield Winery\, 35 Main Street\, Brimfield\, MA\, 01010\, United States
ATTACH;FMTTYPE=image/jpeg:https://experiencesturbridge.com/wp-content/uploads/2022/05/DSC_0912-scaled.jpg
ORGANIZER;CN="Brimfield Winery":MAILTO:brimfieldwineryevents@gmail.com
END:VEVENT
BEGIN:VEVENT
DTSTART;TZID=America/New_York:20220916T160000
DTEND;TZID=America/New_York:20220916T200000
DTSTAMP:20260421T071456
CREATED:20220528T201245Z
LAST-MODIFIED:20220919T195834Z
UID:10000632-1663344000-1663358400@experiencesturbridge.com
SUMMARY:Friday Classic Car Cruise @ Brimfield Winery
DESCRIPTION:Come see great classic cars every Friday night from May through September with music by Bruce Marshall of 97.7
URL:https://experiencesturbridge.com/event/friday-classic-car-cruise-brimfield-winery/2022-09-16/
LOCATION:Brimfield Winery\, 35 Main Street\, Brimfield\, MA\, 01010\, United States
ATTACH;FMTTYPE=image/jpeg:https://experiencesturbridge.com/wp-content/uploads/2022/05/DSC_0912-scaled.jpg
END:VEVENT
BEGIN:VEVENT
DTSTART;TZID=America/New_York:20220902T160000
DTEND;TZID=America/New_York:20220902T200000
DTSTAMP:20260421T071456
CREATED:20220528T201245Z
LAST-MODIFIED:20220919T195834Z
UID:10000631-1662134400-1662148800@experiencesturbridge.com
SUMMARY:Friday Classic Car Cruise @ Brimfield Winery
DESCRIPTION:Come see great classic cars every Friday night from May through September with music by Bruce Marshall of 97.7
URL:https://experiencesturbridge.com/event/friday-classic-car-cruise-brimfield-winery/2022-09-02/
LOCATION:Brimfield Winery\, 35 Main Street\, Brimfield\, MA\, 01010\, United States
ATTACH;FMTTYPE=image/jpeg:https://experiencesturbridge.com/wp-content/uploads/2022/05/DSC_0912-scaled.jpg
END:VEVENT
BEGIN:VEVENT
DTSTART;TZID=America/New_York:20220828T100000
DTEND;TZID=America/New_York:20220828T130000
DTSTAMP:20260421T071456
CREATED:20220621T215706Z
LAST-MODIFIED:20220621T215706Z
UID:10000748-1661680800-1661691600@experiencesturbridge.com
SUMMARY:"Running Out of Summer" 5K Benefit
DESCRIPTION:The 5th Annual “Running Out of Summer” 5K is being held to benefit the Second Chance Animal Shelter in East Brookfield\, MA. This event is being held in partnership with Rapscallion Brewery and Brimfield Winery and Cidery.   The race will be followed by food\, drinks\, and fun at the Brimfield Winery and Cidery.  The event will offer a free drink token after registering which can help pay for a specially brewed “Running Out of Summer” Ale.  Participants will be able to meet and greet adoptable dogs from the shelter. Raffles will be held.  Live music and food trucks will be on hand.
URL:https://experiencesturbridge.com/event/running-out-of-summer-5k-benefit/
LOCATION:Brimfield Winery\, 35 Main Street\, Brimfield\, MA\, 01010\, United States
ATTACH;FMTTYPE=image/jpeg:https://experiencesturbridge.com/wp-content/uploads/2022/03/DSC_0809-scaled-e1650649650409.jpg
END:VEVENT
BEGIN:VEVENT
DTSTART;TZID=America/New_York:20220827T120000
DTEND;TZID=America/New_York:20220827T183000
DTSTAMP:20260421T071456
CREATED:20220805T174931Z
LAST-MODIFIED:20220805T174931Z
UID:10000809-1661601600-1661625000@experiencesturbridge.com
SUMMARY:Pioneer Valley’s BRIMFIELD BLUES FEST
DESCRIPTION:BRIMFIELD WINERY PRESENTS: The Pioneer Valley BRIMFIELD BLUES FEST \nFEATURING THE JAMES MONTGOMERY BAND \nwith special guests: \n\nChristine Ohlman – Barry Goudreau\nThe Uptown Horns – Cliff Goodwin\nShorty Billups\n\nStarting at 1 PM: \n\nMisty Blues Band (Featuring Gina Coleman)\nBrother Kerry and the Hoptones\n\nGates open at 12 PM \nFood trucks available. No outside coolers. \nCost: Tickets $40 (Day of $45)
URL:https://experiencesturbridge.com/event/pioneer-valleys-brimfield-blues-fest/
LOCATION:Brimfield Winery\, 35 Main Street\, Brimfield\, MA\, 01010\, United States
ATTACH;FMTTYPE=image/webp:https://experiencesturbridge.com/wp-content/uploads/2022/08/blues-fest-web-version.jpg.webp
ORGANIZER;CN="Brimfield Winery":MAILTO:brimfieldwineryevents@gmail.com
END:VEVENT
BEGIN:VEVENT
DTSTART;TZID=America/New_York:20220826T160000
DTEND;TZID=America/New_York:20220826T200000
DTSTAMP:20260421T071456
CREATED:20220528T201245Z
LAST-MODIFIED:20220919T195834Z
UID:10000630-1661529600-1661544000@experiencesturbridge.com
SUMMARY:Friday Classic Car Cruise @ Brimfield Winery
DESCRIPTION:Come see great classic cars every Friday night from May through September with music by Bruce Marshall of 97.7
URL:https://experiencesturbridge.com/event/friday-classic-car-cruise-brimfield-winery/2022-08-26/
LOCATION:Brimfield Winery\, 35 Main Street\, Brimfield\, MA\, 01010\, United States
ATTACH;FMTTYPE=image/jpeg:https://experiencesturbridge.com/wp-content/uploads/2022/05/DSC_0912-scaled.jpg
END:VEVENT
BEGIN:VEVENT
DTSTART;TZID=America/New_York:20220819T160000
DTEND;TZID=America/New_York:20220819T200000
DTSTAMP:20260421T071456
CREATED:20220528T201245Z
LAST-MODIFIED:20220919T195834Z
UID:10000629-1660924800-1660939200@experiencesturbridge.com
SUMMARY:Friday Classic Car Cruise @ Brimfield Winery
DESCRIPTION:Come see great classic cars every Friday night from May through September with music by Bruce Marshall of 97.7
URL:https://experiencesturbridge.com/event/friday-classic-car-cruise-brimfield-winery/2022-08-19/
LOCATION:Brimfield Winery\, 35 Main Street\, Brimfield\, MA\, 01010\, United States
ATTACH;FMTTYPE=image/jpeg:https://experiencesturbridge.com/wp-content/uploads/2022/05/DSC_0912-scaled.jpg
END:VEVENT
BEGIN:VEVENT
DTSTART;TZID=America/New_York:20220813T130000
DTEND;TZID=America/New_York:20220813T190000
DTSTAMP:20260421T071456
CREATED:20220805T174131Z
LAST-MODIFIED:20220805T174152Z
UID:10000799-1660395600-1660417200@experiencesturbridge.com
SUMMARY:Southern Crawfish Boil!
DESCRIPTION:SOUTHERN CRAWFISH BOIL! with Special performance by The CATNIP JUNKIES \nBrimfield Winery is “going down south” on August 13th \nTickets $35 until August 7th\, or $40 after Sunday August 8th. \nWe are joining our friends at Off the Hook Roadside Eatery to bring you an experience to remember: \nWith a ticket you will enjoy a Crawfish boil dinner including portions of crawfish\, shrimp\, sausage potatoes\, and fresh corn on the cob! \nDinner will be served at 2:00pm \nThe AFTER DINNER PARTY will be rocking with our guest band Catnip Junkies – Catnip Junkies is a bunch of cool cats who really know how to swing. From NOLA jazz and classic swing all the way to jazzed up modern pop songs\, Catnip Junkies plays it all! Grab your friends and get ready for some GREAT music. \nLets get this party started! Hurry – get your tickets before they are gone!!
URL:https://experiencesturbridge.com/event/southern-crawfish-boil/
LOCATION:Brimfield Winery\, 35 Main Street\, Brimfield\, MA\, 01010\, United States
ATTACH;FMTTYPE=image/jpeg:https://experiencesturbridge.com/wp-content/uploads/2022/08/crawfishboil.jpg
ORGANIZER;CN="Brimfield Winery":MAILTO:brimfieldwineryevents@gmail.com
END:VEVENT
BEGIN:VEVENT
DTSTART;TZID=America/New_York:20220812T160000
DTEND;TZID=America/New_York:20220812T200000
DTSTAMP:20260421T071456
CREATED:20220528T201245Z
LAST-MODIFIED:20220919T195834Z
UID:10000628-1660320000-1660334400@experiencesturbridge.com
SUMMARY:Friday Classic Car Cruise @ Brimfield Winery
DESCRIPTION:Come see great classic cars every Friday night from May through September with music by Bruce Marshall of 97.7
URL:https://experiencesturbridge.com/event/friday-classic-car-cruise-brimfield-winery/2022-08-12/
LOCATION:Brimfield Winery\, 35 Main Street\, Brimfield\, MA\, 01010\, United States
ATTACH;FMTTYPE=image/jpeg:https://experiencesturbridge.com/wp-content/uploads/2022/05/DSC_0912-scaled.jpg
END:VEVENT
BEGIN:VEVENT
DTSTART;TZID=America/New_York:20220810T180000
DTEND;TZID=America/New_York:20220810T220000
DTSTAMP:20260421T071456
CREATED:20220621T213202Z
LAST-MODIFIED:20220621T213324Z
UID:10000747-1660154400-1660168800@experiencesturbridge.com
SUMMARY:Sip and Star Gaze Benefit Event
DESCRIPTION:Join Rapscallion Brewery and Brimfield Winery and Cidery as they co-sponsor an astronomical observation event to benefit the Hitchcock Free Academy.  Geoff and Kim McLean\, from the Thames Astronomical Society will bring telescopes to scan the Universe and watch for the Perseid’s Meteors.  The event will include music starting at 6pm and food will be available from BT’s Smokehouse.  Rain Date: Thursday\, August 11th 
URL:https://experiencesturbridge.com/event/sip-and-star-gaze-benefit-event/
LOCATION:Brimfield Winery\, 35 Main Street\, Brimfield\, MA\, 01010\, United States
ATTACH;FMTTYPE=image/jpeg:https://experiencesturbridge.com/wp-content/uploads/2022/05/DSC_0914-scaled.jpg
END:VEVENT
BEGIN:VEVENT
DTSTART;TZID=America/New_York:20220805T160000
DTEND;TZID=America/New_York:20220805T200000
DTSTAMP:20260421T071456
CREATED:20220528T201245Z
LAST-MODIFIED:20220919T195834Z
UID:10000627-1659715200-1659729600@experiencesturbridge.com
SUMMARY:Friday Classic Car Cruise @ Brimfield Winery
DESCRIPTION:Come see great classic cars every Friday night from May through September with music by Bruce Marshall of 97.7
URL:https://experiencesturbridge.com/event/friday-classic-car-cruise-brimfield-winery/2022-08-05/
LOCATION:Brimfield Winery\, 35 Main Street\, Brimfield\, MA\, 01010\, United States
ATTACH;FMTTYPE=image/jpeg:https://experiencesturbridge.com/wp-content/uploads/2022/05/DSC_0912-scaled.jpg
END:VEVENT
BEGIN:VEVENT
DTSTART;TZID=America/New_York:20220729T160000
DTEND;TZID=America/New_York:20220729T200000
DTSTAMP:20260421T071456
CREATED:20220528T201245Z
LAST-MODIFIED:20220919T195834Z
UID:10000626-1659110400-1659124800@experiencesturbridge.com
SUMMARY:Friday Classic Car Cruise @ Brimfield Winery
DESCRIPTION:Come see great classic cars every Friday night from May through September with music by Bruce Marshall of 97.7
URL:https://experiencesturbridge.com/event/friday-classic-car-cruise-brimfield-winery/2022-07-29/
LOCATION:Brimfield Winery\, 35 Main Street\, Brimfield\, MA\, 01010\, United States
ATTACH;FMTTYPE=image/jpeg:https://experiencesturbridge.com/wp-content/uploads/2022/05/DSC_0912-scaled.jpg
END:VEVENT
BEGIN:VEVENT
DTSTART;TZID=America/New_York:20220722T160000
DTEND;TZID=America/New_York:20220722T200000
DTSTAMP:20260421T071456
CREATED:20220528T201245Z
LAST-MODIFIED:20220919T195834Z
UID:10000625-1658505600-1658520000@experiencesturbridge.com
SUMMARY:Friday Classic Car Cruise @ Brimfield Winery
DESCRIPTION:Come see great classic cars every Friday night from May through September with music by Bruce Marshall of 97.7
URL:https://experiencesturbridge.com/event/friday-classic-car-cruise-brimfield-winery/2022-07-22/
LOCATION:Brimfield Winery\, 35 Main Street\, Brimfield\, MA\, 01010\, United States
ATTACH;FMTTYPE=image/jpeg:https://experiencesturbridge.com/wp-content/uploads/2022/05/DSC_0912-scaled.jpg
END:VEVENT
BEGIN:VEVENT
DTSTART;TZID=America/New_York:20220715T160000
DTEND;TZID=America/New_York:20220715T200000
DTSTAMP:20260421T071456
CREATED:20220528T201245Z
LAST-MODIFIED:20220919T195834Z
UID:10000624-1657900800-1657915200@experiencesturbridge.com
SUMMARY:Friday Classic Car Cruise @ Brimfield Winery
DESCRIPTION:Come see great classic cars every Friday night from May through September with music by Bruce Marshall of 97.7
URL:https://experiencesturbridge.com/event/friday-classic-car-cruise-brimfield-winery/2022-07-15/
LOCATION:Brimfield Winery\, 35 Main Street\, Brimfield\, MA\, 01010\, United States
ATTACH;FMTTYPE=image/jpeg:https://experiencesturbridge.com/wp-content/uploads/2022/05/DSC_0912-scaled.jpg
END:VEVENT
BEGIN:VEVENT
DTSTART;TZID=America/New_York:20220708T160000
DTEND;TZID=America/New_York:20220708T200000
DTSTAMP:20260421T071456
CREATED:20220528T201245Z
LAST-MODIFIED:20220919T195834Z
UID:10000623-1657296000-1657310400@experiencesturbridge.com
SUMMARY:Friday Classic Car Cruise @ Brimfield Winery
DESCRIPTION:Come see great classic cars every Friday night from May through September with music by Bruce Marshall of 97.7
URL:https://experiencesturbridge.com/event/friday-classic-car-cruise-brimfield-winery/2022-07-08/
LOCATION:Brimfield Winery\, 35 Main Street\, Brimfield\, MA\, 01010\, United States
ATTACH;FMTTYPE=image/jpeg:https://experiencesturbridge.com/wp-content/uploads/2022/05/DSC_0912-scaled.jpg
END:VEVENT
BEGIN:VEVENT
DTSTART;TZID=America/New_York:20220701T160000
DTEND;TZID=America/New_York:20220701T200000
DTSTAMP:20260421T071456
CREATED:20220528T201245Z
LAST-MODIFIED:20220919T195834Z
UID:10000622-1656691200-1656705600@experiencesturbridge.com
SUMMARY:Friday Classic Car Cruise @ Brimfield Winery
DESCRIPTION:Come see great classic cars every Friday night from May through September with music by Bruce Marshall of 97.7
URL:https://experiencesturbridge.com/event/friday-classic-car-cruise-brimfield-winery/2022-07-01/
LOCATION:Brimfield Winery\, 35 Main Street\, Brimfield\, MA\, 01010\, United States
ATTACH;FMTTYPE=image/jpeg:https://experiencesturbridge.com/wp-content/uploads/2022/05/DSC_0912-scaled.jpg
END:VEVENT
BEGIN:VEVENT
DTSTART;TZID=America/New_York:20220624T160000
DTEND;TZID=America/New_York:20220624T200000
DTSTAMP:20260421T071456
CREATED:20220528T201245Z
LAST-MODIFIED:20220919T195834Z
UID:10000621-1656086400-1656100800@experiencesturbridge.com
SUMMARY:Friday Classic Car Cruise @ Brimfield Winery
DESCRIPTION:Come see great classic cars every Friday night from May through September with music by Bruce Marshall of 97.7
URL:https://experiencesturbridge.com/event/friday-classic-car-cruise-brimfield-winery/2022-06-24/
LOCATION:Brimfield Winery\, 35 Main Street\, Brimfield\, MA\, 01010\, United States
ATTACH;FMTTYPE=image/jpeg:https://experiencesturbridge.com/wp-content/uploads/2022/05/DSC_0912-scaled.jpg
END:VEVENT
BEGIN:VEVENT
DTSTART;TZID=America/New_York:20220617T160000
DTEND;TZID=America/New_York:20220617T200000
DTSTAMP:20260421T071456
CREATED:20220528T201245Z
LAST-MODIFIED:20220919T195834Z
UID:10000620-1655481600-1655496000@experiencesturbridge.com
SUMMARY:Friday Classic Car Cruise @ Brimfield Winery
DESCRIPTION:Come see great classic cars every Friday night from May through September with music by Bruce Marshall of 97.7
URL:https://experiencesturbridge.com/event/friday-classic-car-cruise-brimfield-winery/2022-06-17/
LOCATION:Brimfield Winery\, 35 Main Street\, Brimfield\, MA\, 01010\, United States
ATTACH;FMTTYPE=image/jpeg:https://experiencesturbridge.com/wp-content/uploads/2022/05/DSC_0912-scaled.jpg
END:VEVENT
BEGIN:VEVENT
DTSTART;TZID=America/New_York:20220610T160000
DTEND;TZID=America/New_York:20220610T200000
DTSTAMP:20260421T071456
CREATED:20220528T201245Z
LAST-MODIFIED:20220919T195834Z
UID:10000619-1654876800-1654891200@experiencesturbridge.com
SUMMARY:Friday Classic Car Cruise @ Brimfield Winery
DESCRIPTION:Come see great classic cars every Friday night from May through September with music by Bruce Marshall of 97.7
URL:https://experiencesturbridge.com/event/friday-classic-car-cruise-brimfield-winery/2022-06-10/
LOCATION:Brimfield Winery\, 35 Main Street\, Brimfield\, MA\, 01010\, United States
ATTACH;FMTTYPE=image/jpeg:https://experiencesturbridge.com/wp-content/uploads/2022/05/DSC_0912-scaled.jpg
END:VEVENT
BEGIN:VEVENT
DTSTART;TZID=America/New_York:20220604T140000
DTEND;TZID=America/New_York:20220604T170000
DTSTAMP:20260421T071456
CREATED:20220528T202658Z
LAST-MODIFIED:20220528T202658Z
UID:10000634-1654351200-1654362000@experiencesturbridge.com
SUMMARY:Live Music by Moody Creek at Brimfield Winery
DESCRIPTION:Live music by Moody Creek\, a coffee house style band with an electic blend of music from the 1960’s to today.  Food truck offerings by Roosters Roaming Cantina. \nhttps://www.facebook.com/moodycreekstudio/
URL:https://experiencesturbridge.com/event/live-music-by-moody-creek-at-brimfield-winery/
LOCATION:Brimfield Winery\, 35 Main Street\, Brimfield\, MA\, 01010\, United States
ATTACH;FMTTYPE=image/jpeg:https://experiencesturbridge.com/wp-content/uploads/2022/05/DSC_0912-scaled.jpg
ORGANIZER;CN="Brimfield Winery":MAILTO:brimfieldwineryevents@gmail.com
END:VEVENT
BEGIN:VEVENT
DTSTART;TZID=America/New_York:20220603T160000
DTEND;TZID=America/New_York:20220603T200000
DTSTAMP:20260421T071456
CREATED:20220528T201245Z
LAST-MODIFIED:20220919T195834Z
UID:10000618-1654272000-1654286400@experiencesturbridge.com
SUMMARY:Friday Classic Car Cruise @ Brimfield Winery
DESCRIPTION:Come see great classic cars every Friday night from May through September with music by Bruce Marshall of 97.7
URL:https://experiencesturbridge.com/event/friday-classic-car-cruise-brimfield-winery/2022-06-03/
LOCATION:Brimfield Winery\, 35 Main Street\, Brimfield\, MA\, 01010\, United States
ATTACH;FMTTYPE=image/jpeg:https://experiencesturbridge.com/wp-content/uploads/2022/05/DSC_0912-scaled.jpg
END:VEVENT
BEGIN:VEVENT
DTSTART;TZID=America/New_York:20220529T140000
DTEND;TZID=America/New_York:20220529T170000
DTSTAMP:20260421T071456
CREATED:20220528T194750Z
LAST-MODIFIED:20220528T195233Z
UID:10000577-1653832800-1653843600@experiencesturbridge.com
SUMMARY:Live Music by the Acoustic Fever Trio Band
DESCRIPTION:Come  visit the Brimfield Winery and hear the Acoustic Fever Trio Band. Food will be offered by the Rooster’s Roaming Cantina Food Truck
URL:https://experiencesturbridge.com/event/live-music-by-the-acoustic-fever-trio-band/
LOCATION:Brimfield Winery\, 35 Main Street\, Brimfield\, MA\, 01010\, United States
ATTACH;FMTTYPE=image/jpeg:https://experiencesturbridge.com/wp-content/uploads/2022/05/DSC_0912-scaled.jpg
END:VEVENT
BEGIN:VEVENT
DTSTART;TZID=America/New_York:20220528T120000
DTEND;TZID=America/New_York:20220528T180000
DTSTAMP:20260421T071456
CREATED:20220528T193744Z
LAST-MODIFIED:20220528T193744Z
UID:10000575-1653739200-1653760800@experiencesturbridge.com
SUMMARY:Brimfield Winery Caribbean Food Truck Live Music
DESCRIPTION:Enjoy all the Caribbean Press Food Truck has to offer with live music from Party of 2!
URL:https://experiencesturbridge.com/event/brimfield-winery-caribbean-food-truck-live-music/
LOCATION:Brimfield Winery\, 35 Main Street\, Brimfield\, MA\, 01010\, United States
ATTACH;FMTTYPE=image/jpeg:https://experiencesturbridge.com/wp-content/uploads/2022/05/DSC_0912-scaled.jpg
END:VEVENT
END:VCALENDAR