BEGIN:VCALENDAR
VERSION:2.0
PRODID:-//Sturbridge - ECPv6.15.20//NONSGML v1.0//EN
CALSCALE:GREGORIAN
METHOD:PUBLISH
X-WR-CALNAME:Sturbridge
X-ORIGINAL-URL:https://experiencesturbridge.com
X-WR-CALDESC:Events for Sturbridge
REFRESH-INTERVAL;VALUE=DURATION:PT1H
X-Robots-Tag:noindex
X-PUBLISHED-TTL:PT1H
BEGIN:VTIMEZONE
TZID:America/New_York
BEGIN:DAYLIGHT
TZOFFSETFROM:-0500
TZOFFSETTO:-0400
TZNAME:EDT
DTSTART:20210314T070000
END:DAYLIGHT
BEGIN:STANDARD
TZOFFSETFROM:-0400
TZOFFSETTO:-0500
TZNAME:EST
DTSTART:20211107T060000
END:STANDARD
BEGIN:DAYLIGHT
TZOFFSETFROM:-0500
TZOFFSETTO:-0400
TZNAME:EDT
DTSTART:20220313T070000
END:DAYLIGHT
BEGIN:STANDARD
TZOFFSETFROM:-0400
TZOFFSETTO:-0500
TZNAME:EST
DTSTART:20221106T060000
END:STANDARD
BEGIN:DAYLIGHT
TZOFFSETFROM:-0500
TZOFFSETTO:-0400
TZNAME:EDT
DTSTART:20230312T070000
END:DAYLIGHT
BEGIN:STANDARD
TZOFFSETFROM:-0400
TZOFFSETTO:-0500
TZNAME:EST
DTSTART:20231105T060000
END:STANDARD
BEGIN:DAYLIGHT
TZOFFSETFROM:-0500
TZOFFSETTO:-0400
TZNAME:EDT
DTSTART:20240310T070000
END:DAYLIGHT
BEGIN:STANDARD
TZOFFSETFROM:-0400
TZOFFSETTO:-0500
TZNAME:EST
DTSTART:20241103T060000
END:STANDARD
BEGIN:DAYLIGHT
TZOFFSETFROM:-0500
TZOFFSETTO:-0400
TZNAME:EDT
DTSTART:20250309T070000
END:DAYLIGHT
BEGIN:STANDARD
TZOFFSETFROM:-0400
TZOFFSETTO:-0500
TZNAME:EST
DTSTART:20251102T060000
END:STANDARD
END:VTIMEZONE
BEGIN:VEVENT
DTSTART;TZID=America/New_York:20240713T073000
DTEND;TZID=America/New_York:20240713T110000
DTSTAMP:20260422T050937
CREATED:20240520T181216Z
LAST-MODIFIED:20240520T181216Z
UID:10001472-1720855800-1720868400@experiencesturbridge.com
SUMMARY:2nd Annual Tree.1 Run for Fun
DESCRIPTION:Spectators and runners can enjoy many vendors on the common from 8:30 AM until 12 PM. \nFun activities for children all morning – bouncy house – face painting – fun children’s race on the common with participation medals to the first 46 to register!! \nThe Sturbridge Special Events Committee\, in partnership with Giving Trees for Life\, Inc. (The Festival of {Giving} Trees)\, is thrilled to announce the 2nd Annual Tree.1 Run for Fun Run/Walk happening on Saturday\, July 13th\, 2024! This event aims to raise funds for the Silent Spring Institute\, the Massachusetts Breast Cancer Coalition\, and The UMMH Cancer Center at Harrington Hospital to combat breast cancer\, support cancer research\, and help local cancer patients with financial hardship. \n  \nhttps://www.adventuresignup.com/Race/MA/Sturbridge/Tree1RunforFun \n 
URL:https://experiencesturbridge.com/event/2nd-annual-tree-1-run-for-fun/
LOCATION:Sturbridge Town Common\, Main St\, Sturbridge\, MA\, 01566\, United States
CATEGORIES:Festivals
ATTACH;FMTTYPE=image/jpeg:https://experiencesturbridge.com/wp-content/uploads/2024/05/RunForFun.jpg
END:VEVENT
BEGIN:VEVENT
DTSTART;TZID=America/New_York:20221016T110000
DTEND;TZID=America/New_York:20221016T160000
DTSTAMP:20260422T050937
CREATED:20220823T232657Z
LAST-MODIFIED:20220823T232657Z
UID:10000870-1665918000-1665936000@experiencesturbridge.com
SUMMARY:Harvest Festival
DESCRIPTION:The 32nd Annual Harvest Festival on the Sturbridge Town Common and grounds of the Publick House Historic Inn is a family fun tradition. The event includes countless local crafters\, artisans\, specialty food vendors and farm fresh harvests. \nThe Publick House’s Scarecrow Contest is a perennial favorite. Enter your scarecrow for a chance to win incredible cash prizes. Scarecrow setup takes place at the end of September. Cast a vote for your favorites! The winners will be announced on Sunday at The Publick House. Festival hours are 10am to 5pm on Saturday and 11am to 4pm on Sunday. Rain or Shine. \nCheck back for more details and schedules coming soon!
URL:https://experiencesturbridge.com/event/harvest-festival/2022-10-16/
LOCATION:Sturbridge Town Common\, Main St\, Sturbridge\, MA\, 01566\, United States
ATTACH;FMTTYPE=image/jpeg:https://experiencesturbridge.com/wp-content/uploads/2022/08/Harvest-Festival-2021-a.jpg
END:VEVENT
BEGIN:VEVENT
DTSTART;TZID=America/New_York:20221015T100000
DTEND;TZID=America/New_York:20221015T170000
DTSTAMP:20260422T050937
CREATED:20220823T232657Z
LAST-MODIFIED:20220823T232657Z
UID:10000869-1665828000-1665853200@experiencesturbridge.com
SUMMARY:Harvest Festival
DESCRIPTION:The 32nd Annual Harvest Festival on the Sturbridge Town Common and grounds of the Publick House Historic Inn is a family fun tradition. The event includes countless local crafters\, artisans\, specialty food vendors and farm fresh harvests. \nThe Publick House’s Scarecrow Contest is a perennial favorite. Enter your scarecrow for a chance to win incredible cash prizes. Scarecrow setup takes place at the end of September. Cast a vote for your favorites! The winners will be announced on Sunday at The Publick House. Festival hours are 10am to 5pm on Saturday and 11am to 4pm on Sunday. Rain or Shine. \nCheck back for more details and schedules coming soon!
URL:https://experiencesturbridge.com/event/harvest-festival/2022-10-15/
LOCATION:Sturbridge Town Common\, Main St\, Sturbridge\, MA\, 01566\, United States
ATTACH;FMTTYPE=image/jpeg:https://experiencesturbridge.com/wp-content/uploads/2022/08/Harvest-Festival-2021-a.jpg
END:VEVENT
END:VCALENDAR