BEGIN:VCALENDAR
VERSION:2.0
PRODID:-//Sturbridge - ECPv6.15.20//NONSGML v1.0//EN
CALSCALE:GREGORIAN
METHOD:PUBLISH
X-WR-CALNAME:Sturbridge
X-ORIGINAL-URL:https://experiencesturbridge.com
X-WR-CALDESC:Events for Sturbridge
REFRESH-INTERVAL;VALUE=DURATION:PT1H
X-Robots-Tag:noindex
X-PUBLISHED-TTL:PT1H
BEGIN:VTIMEZONE
TZID:America/New_York
BEGIN:DAYLIGHT
TZOFFSETFROM:-0500
TZOFFSETTO:-0400
TZNAME:EDT
DTSTART:20220313T070000
END:DAYLIGHT
BEGIN:STANDARD
TZOFFSETFROM:-0400
TZOFFSETTO:-0500
TZNAME:EST
DTSTART:20221106T060000
END:STANDARD
BEGIN:DAYLIGHT
TZOFFSETFROM:-0500
TZOFFSETTO:-0400
TZNAME:EDT
DTSTART:20230312T070000
END:DAYLIGHT
BEGIN:STANDARD
TZOFFSETFROM:-0400
TZOFFSETTO:-0500
TZNAME:EST
DTSTART:20231105T060000
END:STANDARD
BEGIN:DAYLIGHT
TZOFFSETFROM:-0500
TZOFFSETTO:-0400
TZNAME:EDT
DTSTART:20240310T070000
END:DAYLIGHT
BEGIN:STANDARD
TZOFFSETFROM:-0400
TZOFFSETTO:-0500
TZNAME:EST
DTSTART:20241103T060000
END:STANDARD
BEGIN:DAYLIGHT
TZOFFSETFROM:-0500
TZOFFSETTO:-0400
TZNAME:EDT
DTSTART:20250309T070000
END:DAYLIGHT
BEGIN:STANDARD
TZOFFSETFROM:-0400
TZOFFSETTO:-0500
TZNAME:EST
DTSTART:20251102T060000
END:STANDARD
END:VTIMEZONE
BEGIN:VEVENT
DTSTART;TZID=America/New_York:20240502T183000
DTEND;TZID=America/New_York:20240502T210000
DTSTAMP:20260422T183500
CREATED:20230829T210705Z
LAST-MODIFIED:20240102T185516Z
UID:10001265-1714674600-1714683600@experiencesturbridge.com
SUMMARY:Thursday Night Trivia
DESCRIPTION:Join us here in the taproom every Thursday night for General Trivia with Good Times!\nRegistration 630pm\nTrivia kicks off at 7pm\nTaproom open 4pm-10pm\nBring your own food or check out our bites menu at Altruistbrewing.com
URL:https://experiencesturbridge.com/event/thursday-night-trivia/2024-05-02/
LOCATION:Altruist Brewing Company\, 559 Main Street\, Sturbridge\, MA\, 01518\, United States
ATTACH;FMTTYPE=image/jpeg:https://experiencesturbridge.com/wp-content/uploads/2023/08/Good-Times-LOGO-original.jpeg
END:VEVENT
BEGIN:VEVENT
DTSTART;TZID=America/New_York:20240425T183000
DTEND;TZID=America/New_York:20240425T210000
DTSTAMP:20260422T183500
CREATED:20230829T210705Z
LAST-MODIFIED:20240102T185516Z
UID:10001264-1714069800-1714078800@experiencesturbridge.com
SUMMARY:Thursday Night Trivia
DESCRIPTION:Join us here in the taproom every Thursday night for General Trivia with Good Times!\nRegistration 630pm\nTrivia kicks off at 7pm\nTaproom open 4pm-10pm\nBring your own food or check out our bites menu at Altruistbrewing.com
URL:https://experiencesturbridge.com/event/thursday-night-trivia/2024-04-25/
LOCATION:Altruist Brewing Company\, 559 Main Street\, Sturbridge\, MA\, 01518\, United States
ATTACH;FMTTYPE=image/jpeg:https://experiencesturbridge.com/wp-content/uploads/2023/08/Good-Times-LOGO-original.jpeg
END:VEVENT
BEGIN:VEVENT
DTSTART;TZID=America/New_York:20240424T180000
DTEND;TZID=America/New_York:20240424T200000
DTSTAMP:20260422T183500
CREATED:20231024T163047Z
LAST-MODIFIED:20231024T163047Z
UID:10001304-1713981600-1713988800@experiencesturbridge.com
SUMMARY:Music Bingo at Altruist!
DESCRIPTION:Free to play\, prizes to win! Join us for Music bingo here in the taproom 6pm-8pm!
URL:https://experiencesturbridge.com/event/music-bingo-at-altruist/2024-04-24/
LOCATION:Altruist Brewing Company\, 559 Main Street\, Sturbridge\, MA\, 01518\, United States
ATTACH;FMTTYPE=image/png:https://experiencesturbridge.com/wp-content/uploads/2023/10/Music-Bingo.png
END:VEVENT
BEGIN:VEVENT
DTSTART;TZID=America/New_York:20240418T183000
DTEND;TZID=America/New_York:20240418T210000
DTSTAMP:20260422T183500
CREATED:20230829T210705Z
LAST-MODIFIED:20240102T185516Z
UID:10001263-1713465000-1713474000@experiencesturbridge.com
SUMMARY:Thursday Night Trivia
DESCRIPTION:Join us here in the taproom every Thursday night for General Trivia with Good Times!\nRegistration 630pm\nTrivia kicks off at 7pm\nTaproom open 4pm-10pm\nBring your own food or check out our bites menu at Altruistbrewing.com
URL:https://experiencesturbridge.com/event/thursday-night-trivia/2024-04-18/
LOCATION:Altruist Brewing Company\, 559 Main Street\, Sturbridge\, MA\, 01518\, United States
ATTACH;FMTTYPE=image/jpeg:https://experiencesturbridge.com/wp-content/uploads/2023/08/Good-Times-LOGO-original.jpeg
END:VEVENT
BEGIN:VEVENT
DTSTART;TZID=America/New_York:20240411T183000
DTEND;TZID=America/New_York:20240411T210000
DTSTAMP:20260422T183500
CREATED:20230829T210705Z
LAST-MODIFIED:20240102T185516Z
UID:10001262-1712860200-1712869200@experiencesturbridge.com
SUMMARY:Thursday Night Trivia
DESCRIPTION:Join us here in the taproom every Thursday night for General Trivia with Good Times!\nRegistration 630pm\nTrivia kicks off at 7pm\nTaproom open 4pm-10pm\nBring your own food or check out our bites menu at Altruistbrewing.com
URL:https://experiencesturbridge.com/event/thursday-night-trivia/2024-04-11/
LOCATION:Altruist Brewing Company\, 559 Main Street\, Sturbridge\, MA\, 01518\, United States
ATTACH;FMTTYPE=image/jpeg:https://experiencesturbridge.com/wp-content/uploads/2023/08/Good-Times-LOGO-original.jpeg
END:VEVENT
BEGIN:VEVENT
DTSTART;TZID=America/New_York:20240404T183000
DTEND;TZID=America/New_York:20240404T210000
DTSTAMP:20260422T183500
CREATED:20230829T210705Z
LAST-MODIFIED:20240102T185516Z
UID:10001261-1712255400-1712264400@experiencesturbridge.com
SUMMARY:Thursday Night Trivia
DESCRIPTION:Join us here in the taproom every Thursday night for General Trivia with Good Times!\nRegistration 630pm\nTrivia kicks off at 7pm\nTaproom open 4pm-10pm\nBring your own food or check out our bites menu at Altruistbrewing.com
URL:https://experiencesturbridge.com/event/thursday-night-trivia/2024-04-04/
LOCATION:Altruist Brewing Company\, 559 Main Street\, Sturbridge\, MA\, 01518\, United States
ATTACH;FMTTYPE=image/jpeg:https://experiencesturbridge.com/wp-content/uploads/2023/08/Good-Times-LOGO-original.jpeg
END:VEVENT
BEGIN:VEVENT
DTSTART;TZID=America/New_York:20240328T183000
DTEND;TZID=America/New_York:20240328T210000
DTSTAMP:20260422T183500
CREATED:20230829T210705Z
LAST-MODIFIED:20240102T185516Z
UID:10001260-1711650600-1711659600@experiencesturbridge.com
SUMMARY:Thursday Night Trivia
DESCRIPTION:Join us here in the taproom every Thursday night for General Trivia with Good Times!\nRegistration 630pm\nTrivia kicks off at 7pm\nTaproom open 4pm-10pm\nBring your own food or check out our bites menu at Altruistbrewing.com
URL:https://experiencesturbridge.com/event/thursday-night-trivia/2024-03-28/
LOCATION:Altruist Brewing Company\, 559 Main Street\, Sturbridge\, MA\, 01518\, United States
ATTACH;FMTTYPE=image/jpeg:https://experiencesturbridge.com/wp-content/uploads/2023/08/Good-Times-LOGO-original.jpeg
END:VEVENT
BEGIN:VEVENT
DTSTART;TZID=America/New_York:20240327T180000
DTEND;TZID=America/New_York:20240327T200000
DTSTAMP:20260422T183500
CREATED:20231024T163047Z
LAST-MODIFIED:20231024T163047Z
UID:10001303-1711562400-1711569600@experiencesturbridge.com
SUMMARY:Music Bingo at Altruist!
DESCRIPTION:Free to play\, prizes to win! Join us for Music bingo here in the taproom 6pm-8pm!
URL:https://experiencesturbridge.com/event/music-bingo-at-altruist/2024-03-27/
LOCATION:Altruist Brewing Company\, 559 Main Street\, Sturbridge\, MA\, 01518\, United States
ATTACH;FMTTYPE=image/png:https://experiencesturbridge.com/wp-content/uploads/2023/10/Music-Bingo.png
END:VEVENT
BEGIN:VEVENT
DTSTART;TZID=America/New_York:20240321T183000
DTEND;TZID=America/New_York:20240321T210000
DTSTAMP:20260422T183500
CREATED:20230829T210705Z
LAST-MODIFIED:20240102T185516Z
UID:10001259-1711045800-1711054800@experiencesturbridge.com
SUMMARY:Thursday Night Trivia
DESCRIPTION:Join us here in the taproom every Thursday night for General Trivia with Good Times!\nRegistration 630pm\nTrivia kicks off at 7pm\nTaproom open 4pm-10pm\nBring your own food or check out our bites menu at Altruistbrewing.com
URL:https://experiencesturbridge.com/event/thursday-night-trivia/2024-03-21/
LOCATION:Altruist Brewing Company\, 559 Main Street\, Sturbridge\, MA\, 01518\, United States
ATTACH;FMTTYPE=image/jpeg:https://experiencesturbridge.com/wp-content/uploads/2023/08/Good-Times-LOGO-original.jpeg
END:VEVENT
BEGIN:VEVENT
DTSTART;TZID=America/New_York:20240314T183000
DTEND;TZID=America/New_York:20240314T210000
DTSTAMP:20260422T183500
CREATED:20230829T210705Z
LAST-MODIFIED:20240102T185516Z
UID:10001258-1710441000-1710450000@experiencesturbridge.com
SUMMARY:Thursday Night Trivia
DESCRIPTION:Join us here in the taproom every Thursday night for General Trivia with Good Times!\nRegistration 630pm\nTrivia kicks off at 7pm\nTaproom open 4pm-10pm\nBring your own food or check out our bites menu at Altruistbrewing.com
URL:https://experiencesturbridge.com/event/thursday-night-trivia/2024-03-14/
LOCATION:Altruist Brewing Company\, 559 Main Street\, Sturbridge\, MA\, 01518\, United States
ATTACH;FMTTYPE=image/jpeg:https://experiencesturbridge.com/wp-content/uploads/2023/08/Good-Times-LOGO-original.jpeg
END:VEVENT
BEGIN:VEVENT
DTSTART;TZID=America/New_York:20240307T183000
DTEND;TZID=America/New_York:20240307T210000
DTSTAMP:20260422T183500
CREATED:20230829T210705Z
LAST-MODIFIED:20240102T185516Z
UID:10001257-1709836200-1709845200@experiencesturbridge.com
SUMMARY:Thursday Night Trivia
DESCRIPTION:Join us here in the taproom every Thursday night for General Trivia with Good Times!\nRegistration 630pm\nTrivia kicks off at 7pm\nTaproom open 4pm-10pm\nBring your own food or check out our bites menu at Altruistbrewing.com
URL:https://experiencesturbridge.com/event/thursday-night-trivia/2024-03-07/
LOCATION:Altruist Brewing Company\, 559 Main Street\, Sturbridge\, MA\, 01518\, United States
ATTACH;FMTTYPE=image/jpeg:https://experiencesturbridge.com/wp-content/uploads/2023/08/Good-Times-LOGO-original.jpeg
END:VEVENT
BEGIN:VEVENT
DTSTART;TZID=America/New_York:20240301T170000
DTEND;TZID=America/New_York:20240301T220000
DTSTAMP:20260422T183500
CREATED:20240214T185346Z
LAST-MODIFIED:20240214T185346Z
UID:10001387-1709312400-1709330400@experiencesturbridge.com
SUMMARY:Sip\, Shop\, & Support at Altruist!
DESCRIPTION:Kick off women’s history month with us here in the taproom!\nCatch the release of our 2024 Pink Boots Brew!\nLive Music with Gracie Day 630pm-930pm!\nShop & support local\, women owned pop ups here in the taproom 5pm-8pm!\nSee you there!
URL:https://experiencesturbridge.com/event/sip-shop-support-at-altruist/
LOCATION:Altruist Brewing Company\, 559 Main Street\, Sturbridge\, MA\, 01518\, United States
ATTACH;FMTTYPE=image/png:https://experiencesturbridge.com/wp-content/uploads/2024/02/pink-boots-.png
END:VEVENT
BEGIN:VEVENT
DTSTART;TZID=America/New_York:20240229T183000
DTEND;TZID=America/New_York:20240229T210000
DTSTAMP:20260422T183500
CREATED:20230829T210705Z
LAST-MODIFIED:20240102T185516Z
UID:10001256-1709231400-1709240400@experiencesturbridge.com
SUMMARY:Thursday Night Trivia
DESCRIPTION:Join us here in the taproom every Thursday night for General Trivia with Good Times!\nRegistration 630pm\nTrivia kicks off at 7pm\nTaproom open 4pm-10pm\nBring your own food or check out our bites menu at Altruistbrewing.com
URL:https://experiencesturbridge.com/event/thursday-night-trivia/2024-02-29/
LOCATION:Altruist Brewing Company\, 559 Main Street\, Sturbridge\, MA\, 01518\, United States
ATTACH;FMTTYPE=image/jpeg:https://experiencesturbridge.com/wp-content/uploads/2023/08/Good-Times-LOGO-original.jpeg
END:VEVENT
BEGIN:VEVENT
DTSTART;TZID=America/New_York:20240228T180000
DTEND;TZID=America/New_York:20240228T200000
DTSTAMP:20260422T183500
CREATED:20231024T163047Z
LAST-MODIFIED:20231024T163047Z
UID:10001302-1709143200-1709150400@experiencesturbridge.com
SUMMARY:Music Bingo at Altruist!
DESCRIPTION:Free to play\, prizes to win! Join us for Music bingo here in the taproom 6pm-8pm!
URL:https://experiencesturbridge.com/event/music-bingo-at-altruist/2024-02-28/
LOCATION:Altruist Brewing Company\, 559 Main Street\, Sturbridge\, MA\, 01518\, United States
ATTACH;FMTTYPE=image/png:https://experiencesturbridge.com/wp-content/uploads/2023/10/Music-Bingo.png
END:VEVENT
BEGIN:VEVENT
DTSTART;TZID=America/New_York:20240225T140000
DTEND;TZID=America/New_York:20240225T170000
DTSTAMP:20260422T183500
CREATED:20240214T185134Z
LAST-MODIFIED:20240214T185134Z
UID:10001386-1708869600-1708880400@experiencesturbridge.com
SUMMARY:Mike Melendez live at Altruist!
DESCRIPTION:Sunday jams with Mike Melendez 2pm-5pm\nTaproom open 12pm-6pm
URL:https://experiencesturbridge.com/event/mike-melendez-live-at-altruist/
LOCATION:Altruist Brewing Company\, 559 Main Street\, Sturbridge\, MA\, 01518\, United States
ATTACH;FMTTYPE=image/png:https://experiencesturbridge.com/wp-content/uploads/2024/02/Mike-Melendez-16.png
END:VEVENT
BEGIN:VEVENT
DTSTART;TZID=America/New_York:20240223T190000
DTEND;TZID=America/New_York:20240223T220000
DTSTAMP:20260422T183500
CREATED:20240214T190333Z
LAST-MODIFIED:20240214T190333Z
UID:10001385-1708714800-1708725600@experiencesturbridge.com
SUMMARY:Tino & Malone live at Altruist!
DESCRIPTION:Tino & Malone are back for a night of live music 7pm-10pm\nTaproom open 4pm-10pm
URL:https://experiencesturbridge.com/event/tino-malone-live-at-altruist/
LOCATION:Altruist Brewing Company\, 559 Main Street\, Sturbridge\, MA\, 01518\, United States
ATTACH;FMTTYPE=image/png:https://experiencesturbridge.com/wp-content/uploads/2024/02/Tino-Malone-1.png
END:VEVENT
BEGIN:VEVENT
DTSTART;TZID=America/New_York:20240222T183000
DTEND;TZID=America/New_York:20240222T210000
DTSTAMP:20260422T183500
CREATED:20230829T210705Z
LAST-MODIFIED:20240102T185516Z
UID:10001255-1708626600-1708635600@experiencesturbridge.com
SUMMARY:Thursday Night Trivia
DESCRIPTION:Join us here in the taproom every Thursday night for General Trivia with Good Times!\nRegistration 630pm\nTrivia kicks off at 7pm\nTaproom open 4pm-10pm\nBring your own food or check out our bites menu at Altruistbrewing.com
URL:https://experiencesturbridge.com/event/thursday-night-trivia/2024-02-22/
LOCATION:Altruist Brewing Company\, 559 Main Street\, Sturbridge\, MA\, 01518\, United States
ATTACH;FMTTYPE=image/jpeg:https://experiencesturbridge.com/wp-content/uploads/2023/08/Good-Times-LOGO-original.jpeg
END:VEVENT
BEGIN:VEVENT
DTSTART;TZID=America/New_York:20240218T140000
DTEND;TZID=America/New_York:20240218T170000
DTSTAMP:20260422T183500
CREATED:20240214T190354Z
LAST-MODIFIED:20240214T190354Z
UID:10001383-1708264800-1708275600@experiencesturbridge.com
SUMMARY:John Demers live at Altruist!
DESCRIPTION:John Demers is back for an acoustic Sunday.\nTaproom open 12pm-6pm\nLive Music 2pm-5pm
URL:https://experiencesturbridge.com/event/john-demers-live-at-altruist/
LOCATION:Altruist Brewing Company\, 559 Main Street\, Sturbridge\, MA\, 01518\, United States
ATTACH;FMTTYPE=image/png:https://experiencesturbridge.com/wp-content/uploads/2024/02/John-Demers-June-3rd-2.png
END:VEVENT
BEGIN:VEVENT
DTSTART;TZID=America/New_York:20240217T140000
DTEND;TZID=America/New_York:20240217T170000
DTSTAMP:20260422T183500
CREATED:20240214T190413Z
LAST-MODIFIED:20240214T190413Z
UID:10001384-1708178400-1708189200@experiencesturbridge.com
SUMMARY:Colden Blackwell live at Altruist!
DESCRIPTION:Help us welcome\, local high school student Colden Blackwell to the Altruist Stage! \n2pm-5pm
URL:https://experiencesturbridge.com/event/colden-blackwell-live-at-altruist/
LOCATION:Altruist Brewing Company\, 559 Main Street\, Sturbridge\, MA\, 01518\, United States
ATTACH;FMTTYPE=image/png:https://experiencesturbridge.com/wp-content/uploads/2024/02/Colden-Blackwell-.png
END:VEVENT
BEGIN:VEVENT
DTSTART;TZID=America/New_York:20240216T190000
DTEND;TZID=America/New_York:20240216T220000
DTSTAMP:20260422T183501
CREATED:20240214T190429Z
LAST-MODIFIED:20240214T190429Z
UID:10001382-1708110000-1708120800@experiencesturbridge.com
SUMMARY:Hat Trick live at Altruist!
DESCRIPTION:Hat Trick are an acoustic rock trio playing fun songs that you know and love!\nCatch Hat Trick here in the taproom 7pm-10pm\nTaproom open 4pm-10pm
URL:https://experiencesturbridge.com/event/hat-trick-live-at-altruist/
LOCATION:Altruist Brewing Company\, 559 Main Street\, Sturbridge\, MA\, 01518\, United States
ATTACH;FMTTYPE=image/png:https://experiencesturbridge.com/wp-content/uploads/2024/02/Hat-Trick-5.png
END:VEVENT
BEGIN:VEVENT
DTSTART;TZID=America/New_York:20240215T190000
DTEND;TZID=America/New_York:20240215T210000
DTSTAMP:20260422T183501
CREATED:20240214T190442Z
LAST-MODIFIED:20240214T190442Z
UID:10001381-1708023600-1708030800@experiencesturbridge.com
SUMMARY:Music Trivia at Altruist!
DESCRIPTION:Music trivia is back!\nJoin us & host Bob Mitchell for a night of music trivia 7pm-9pm!\nTeams of 6 or less.\nBring your own food or check out our bites menu at Altruistbrewing.com
URL:https://experiencesturbridge.com/event/music-trivia-at-altruist/
LOCATION:Altruist Brewing Company\, 559 Main Street\, Sturbridge\, MA\, 01518\, United States
ATTACH;FMTTYPE=image/png:https://experiencesturbridge.com/wp-content/uploads/2024/02/Music-Trivia-1.png
END:VEVENT
BEGIN:VEVENT
DTSTART;TZID=America/New_York:20240215T183000
DTEND;TZID=America/New_York:20240215T210000
DTSTAMP:20260422T183501
CREATED:20230829T210705Z
LAST-MODIFIED:20240102T185516Z
UID:10001254-1708021800-1708030800@experiencesturbridge.com
SUMMARY:Thursday Night Trivia
DESCRIPTION:Join us here in the taproom every Thursday night for General Trivia with Good Times!\nRegistration 630pm\nTrivia kicks off at 7pm\nTaproom open 4pm-10pm\nBring your own food or check out our bites menu at Altruistbrewing.com
URL:https://experiencesturbridge.com/event/thursday-night-trivia/2024-02-15/
LOCATION:Altruist Brewing Company\, 559 Main Street\, Sturbridge\, MA\, 01518\, United States
ATTACH;FMTTYPE=image/jpeg:https://experiencesturbridge.com/wp-content/uploads/2023/08/Good-Times-LOGO-original.jpeg
END:VEVENT
BEGIN:VEVENT
DTSTART;TZID=America/New_York:20240208T183000
DTEND;TZID=America/New_York:20240208T210000
DTSTAMP:20260422T183501
CREATED:20230829T210705Z
LAST-MODIFIED:20240102T185516Z
UID:10001253-1707417000-1707426000@experiencesturbridge.com
SUMMARY:Thursday Night Trivia
DESCRIPTION:Join us here in the taproom every Thursday night for General Trivia with Good Times!\nRegistration 630pm\nTrivia kicks off at 7pm\nTaproom open 4pm-10pm\nBring your own food or check out our bites menu at Altruistbrewing.com
URL:https://experiencesturbridge.com/event/thursday-night-trivia/2024-02-08/
LOCATION:Altruist Brewing Company\, 559 Main Street\, Sturbridge\, MA\, 01518\, United States
ATTACH;FMTTYPE=image/jpeg:https://experiencesturbridge.com/wp-content/uploads/2023/08/Good-Times-LOGO-original.jpeg
END:VEVENT
BEGIN:VEVENT
DTSTART;TZID=America/New_York:20240201T183000
DTEND;TZID=America/New_York:20240201T210000
DTSTAMP:20260422T183501
CREATED:20230829T210705Z
LAST-MODIFIED:20240102T185516Z
UID:10001252-1706812200-1706821200@experiencesturbridge.com
SUMMARY:Thursday Night Trivia
DESCRIPTION:Join us here in the taproom every Thursday night for General Trivia with Good Times!\nRegistration 630pm\nTrivia kicks off at 7pm\nTaproom open 4pm-10pm\nBring your own food or check out our bites menu at Altruistbrewing.com
URL:https://experiencesturbridge.com/event/thursday-night-trivia/2024-02-01/
LOCATION:Altruist Brewing Company\, 559 Main Street\, Sturbridge\, MA\, 01518\, United States
ATTACH;FMTTYPE=image/jpeg:https://experiencesturbridge.com/wp-content/uploads/2023/08/Good-Times-LOGO-original.jpeg
END:VEVENT
BEGIN:VEVENT
DTSTART;TZID=America/New_York:20240131T180000
DTEND;TZID=America/New_York:20240131T200000
DTSTAMP:20260422T183501
CREATED:20231024T163047Z
LAST-MODIFIED:20231024T163047Z
UID:10001301-1706724000-1706731200@experiencesturbridge.com
SUMMARY:Music Bingo at Altruist!
DESCRIPTION:Free to play\, prizes to win! Join us for Music bingo here in the taproom 6pm-8pm!
URL:https://experiencesturbridge.com/event/music-bingo-at-altruist/2024-01-31/
LOCATION:Altruist Brewing Company\, 559 Main Street\, Sturbridge\, MA\, 01518\, United States
ATTACH;FMTTYPE=image/png:https://experiencesturbridge.com/wp-content/uploads/2023/10/Music-Bingo.png
END:VEVENT
BEGIN:VEVENT
DTSTART;TZID=America/New_York:20240125T183000
DTEND;TZID=America/New_York:20240125T210000
DTSTAMP:20260422T183501
CREATED:20230829T210705Z
LAST-MODIFIED:20240102T185516Z
UID:10001251-1706207400-1706216400@experiencesturbridge.com
SUMMARY:Thursday Night Trivia
DESCRIPTION:Join us here in the taproom every Thursday night for General Trivia with Good Times!\nRegistration 630pm\nTrivia kicks off at 7pm\nTaproom open 4pm-10pm\nBring your own food or check out our bites menu at Altruistbrewing.com
URL:https://experiencesturbridge.com/event/thursday-night-trivia/2024-01-25/
LOCATION:Altruist Brewing Company\, 559 Main Street\, Sturbridge\, MA\, 01518\, United States
ATTACH;FMTTYPE=image/jpeg:https://experiencesturbridge.com/wp-content/uploads/2023/08/Good-Times-LOGO-original.jpeg
END:VEVENT
BEGIN:VEVENT
DTSTART;TZID=America/New_York:20240118T183000
DTEND;TZID=America/New_York:20240118T210000
DTSTAMP:20260422T183501
CREATED:20230829T210705Z
LAST-MODIFIED:20240102T185516Z
UID:10001250-1705602600-1705611600@experiencesturbridge.com
SUMMARY:Thursday Night Trivia
DESCRIPTION:Join us here in the taproom every Thursday night for General Trivia with Good Times!\nRegistration 630pm\nTrivia kicks off at 7pm\nTaproom open 4pm-10pm\nBring your own food or check out our bites menu at Altruistbrewing.com
URL:https://experiencesturbridge.com/event/thursday-night-trivia/2024-01-18/
LOCATION:Altruist Brewing Company\, 559 Main Street\, Sturbridge\, MA\, 01518\, United States
ATTACH;FMTTYPE=image/jpeg:https://experiencesturbridge.com/wp-content/uploads/2023/08/Good-Times-LOGO-original.jpeg
END:VEVENT
BEGIN:VEVENT
DTSTART;TZID=America/New_York:20240111T183000
DTEND;TZID=America/New_York:20240111T210000
DTSTAMP:20260422T183501
CREATED:20230829T210705Z
LAST-MODIFIED:20240102T185516Z
UID:10001249-1704997800-1705006800@experiencesturbridge.com
SUMMARY:Thursday Night Trivia
DESCRIPTION:Join us here in the taproom every Thursday night for General Trivia with Good Times!\nRegistration 630pm\nTrivia kicks off at 7pm\nTaproom open 4pm-10pm\nBring your own food or check out our bites menu at Altruistbrewing.com
URL:https://experiencesturbridge.com/event/thursday-night-trivia/2024-01-11/
LOCATION:Altruist Brewing Company\, 559 Main Street\, Sturbridge\, MA\, 01518\, United States
ATTACH;FMTTYPE=image/jpeg:https://experiencesturbridge.com/wp-content/uploads/2023/08/Good-Times-LOGO-original.jpeg
END:VEVENT
BEGIN:VEVENT
DTSTART;TZID=America/New_York:20240104T183000
DTEND;TZID=America/New_York:20240104T210000
DTSTAMP:20260422T183501
CREATED:20230829T210705Z
LAST-MODIFIED:20240102T185516Z
UID:10001248-1704393000-1704402000@experiencesturbridge.com
SUMMARY:Thursday Night Trivia
DESCRIPTION:Join us here in the taproom every Thursday night for General Trivia with Good Times!\nRegistration 630pm\nTrivia kicks off at 7pm\nTaproom open 4pm-10pm\nBring your own food or check out our bites menu at Altruistbrewing.com
URL:https://experiencesturbridge.com/event/thursday-night-trivia/2024-01-04/
LOCATION:Altruist Brewing Company\, 559 Main Street\, Sturbridge\, MA\, 01518\, United States
ATTACH;FMTTYPE=image/jpeg:https://experiencesturbridge.com/wp-content/uploads/2023/08/Good-Times-LOGO-original.jpeg
END:VEVENT
BEGIN:VEVENT
DTSTART;TZID=America/New_York:20231228T183000
DTEND;TZID=America/New_York:20231228T210000
DTSTAMP:20260422T183501
CREATED:20230829T210705Z
LAST-MODIFIED:20240102T185516Z
UID:10001247-1703788200-1703797200@experiencesturbridge.com
SUMMARY:Thursday Night Trivia
DESCRIPTION:Join us here in the taproom every Thursday night for General Trivia with Good Times!\nRegistration 630pm\nTrivia kicks off at 7pm\nTaproom open 4pm-10pm\nBring your own food or check out our bites menu at Altruistbrewing.com
URL:https://experiencesturbridge.com/event/thursday-night-trivia/2023-12-28/
LOCATION:Altruist Brewing Company\, 559 Main Street\, Sturbridge\, MA\, 01518\, United States
ATTACH;FMTTYPE=image/jpeg:https://experiencesturbridge.com/wp-content/uploads/2023/08/Good-Times-LOGO-original.jpeg
END:VEVENT
END:VCALENDAR