BEGIN:VCALENDAR
VERSION:2.0
PRODID:-//Sturbridge - ECPv6.15.20//NONSGML v1.0//EN
CALSCALE:GREGORIAN
METHOD:PUBLISH
X-WR-CALNAME:Sturbridge
X-ORIGINAL-URL:https://experiencesturbridge.com
X-WR-CALDESC:Events for Sturbridge
REFRESH-INTERVAL;VALUE=DURATION:PT1H
X-Robots-Tag:noindex
X-PUBLISHED-TTL:PT1H
BEGIN:VTIMEZONE
TZID:America/New_York
BEGIN:DAYLIGHT
TZOFFSETFROM:-0500
TZOFFSETTO:-0400
TZNAME:EDT
DTSTART:20230312T070000
END:DAYLIGHT
BEGIN:STANDARD
TZOFFSETFROM:-0400
TZOFFSETTO:-0500
TZNAME:EST
DTSTART:20231105T060000
END:STANDARD
BEGIN:DAYLIGHT
TZOFFSETFROM:-0500
TZOFFSETTO:-0400
TZNAME:EDT
DTSTART:20240310T070000
END:DAYLIGHT
BEGIN:STANDARD
TZOFFSETFROM:-0400
TZOFFSETTO:-0500
TZNAME:EST
DTSTART:20241103T060000
END:STANDARD
BEGIN:DAYLIGHT
TZOFFSETFROM:-0500
TZOFFSETTO:-0400
TZNAME:EDT
DTSTART:20250309T070000
END:DAYLIGHT
BEGIN:STANDARD
TZOFFSETFROM:-0400
TZOFFSETTO:-0500
TZNAME:EST
DTSTART:20251102T060000
END:STANDARD
END:VTIMEZONE
BEGIN:VEVENT
DTSTART;TZID=America/New_York:20240925T180000
DTEND;TZID=America/New_York:20240925T200000
DTSTAMP:20260422T063950
CREATED:20231024T163047Z
LAST-MODIFIED:20231024T163047Z
UID:10001309-1727287200-1727294400@experiencesturbridge.com
SUMMARY:Music Bingo at Altruist!
DESCRIPTION:Free to play\, prizes to win! Join us for Music bingo here in the taproom 6pm-8pm!
URL:https://experiencesturbridge.com/event/music-bingo-at-altruist/2024-09-25/
LOCATION:Altruist Brewing Company\, 559 Main Street\, Sturbridge\, MA\, 01518\, United States
ATTACH;FMTTYPE=image/png:https://experiencesturbridge.com/wp-content/uploads/2023/10/Music-Bingo.png
END:VEVENT
BEGIN:VEVENT
DTSTART;TZID=America/New_York:20240919T183000
DTEND;TZID=America/New_York:20240919T210000
DTSTAMP:20260422T063950
CREATED:20230829T210705Z
LAST-MODIFIED:20240102T185516Z
UID:10001285-1726770600-1726779600@experiencesturbridge.com
SUMMARY:Thursday Night Trivia
DESCRIPTION:Join us here in the taproom every Thursday night for General Trivia with Good Times!\nRegistration 630pm\nTrivia kicks off at 7pm\nTaproom open 4pm-10pm\nBring your own food or check out our bites menu at Altruistbrewing.com
URL:https://experiencesturbridge.com/event/thursday-night-trivia/2024-09-19/
LOCATION:Altruist Brewing Company\, 559 Main Street\, Sturbridge\, MA\, 01518\, United States
ATTACH;FMTTYPE=image/jpeg:https://experiencesturbridge.com/wp-content/uploads/2023/08/Good-Times-LOGO-original.jpeg
END:VEVENT
BEGIN:VEVENT
DTSTART;TZID=America/New_York:20240912T183000
DTEND;TZID=America/New_York:20240912T210000
DTSTAMP:20260422T063950
CREATED:20230829T210705Z
LAST-MODIFIED:20240102T185516Z
UID:10001284-1726165800-1726174800@experiencesturbridge.com
SUMMARY:Thursday Night Trivia
DESCRIPTION:Join us here in the taproom every Thursday night for General Trivia with Good Times!\nRegistration 630pm\nTrivia kicks off at 7pm\nTaproom open 4pm-10pm\nBring your own food or check out our bites menu at Altruistbrewing.com
URL:https://experiencesturbridge.com/event/thursday-night-trivia/2024-09-12/
LOCATION:Altruist Brewing Company\, 559 Main Street\, Sturbridge\, MA\, 01518\, United States
ATTACH;FMTTYPE=image/jpeg:https://experiencesturbridge.com/wp-content/uploads/2023/08/Good-Times-LOGO-original.jpeg
END:VEVENT
BEGIN:VEVENT
DTSTART;TZID=America/New_York:20240905T183000
DTEND;TZID=America/New_York:20240905T210000
DTSTAMP:20260422T063950
CREATED:20230829T210705Z
LAST-MODIFIED:20240102T185516Z
UID:10001283-1725561000-1725570000@experiencesturbridge.com
SUMMARY:Thursday Night Trivia
DESCRIPTION:Join us here in the taproom every Thursday night for General Trivia with Good Times!\nRegistration 630pm\nTrivia kicks off at 7pm\nTaproom open 4pm-10pm\nBring your own food or check out our bites menu at Altruistbrewing.com
URL:https://experiencesturbridge.com/event/thursday-night-trivia/2024-09-05/
LOCATION:Altruist Brewing Company\, 559 Main Street\, Sturbridge\, MA\, 01518\, United States
ATTACH;FMTTYPE=image/jpeg:https://experiencesturbridge.com/wp-content/uploads/2023/08/Good-Times-LOGO-original.jpeg
END:VEVENT
BEGIN:VEVENT
DTSTART;TZID=America/New_York:20240829T183000
DTEND;TZID=America/New_York:20240829T210000
DTSTAMP:20260422T063950
CREATED:20230829T210705Z
LAST-MODIFIED:20240102T185516Z
UID:10001282-1724956200-1724965200@experiencesturbridge.com
SUMMARY:Thursday Night Trivia
DESCRIPTION:Join us here in the taproom every Thursday night for General Trivia with Good Times!\nRegistration 630pm\nTrivia kicks off at 7pm\nTaproom open 4pm-10pm\nBring your own food or check out our bites menu at Altruistbrewing.com
URL:https://experiencesturbridge.com/event/thursday-night-trivia/2024-08-29/
LOCATION:Altruist Brewing Company\, 559 Main Street\, Sturbridge\, MA\, 01518\, United States
ATTACH;FMTTYPE=image/jpeg:https://experiencesturbridge.com/wp-content/uploads/2023/08/Good-Times-LOGO-original.jpeg
END:VEVENT
BEGIN:VEVENT
DTSTART;TZID=America/New_York:20240828T180000
DTEND;TZID=America/New_York:20240828T200000
DTSTAMP:20260422T063950
CREATED:20231024T163047Z
LAST-MODIFIED:20231024T163047Z
UID:10001308-1724868000-1724875200@experiencesturbridge.com
SUMMARY:Music Bingo at Altruist!
DESCRIPTION:Free to play\, prizes to win! Join us for Music bingo here in the taproom 6pm-8pm!
URL:https://experiencesturbridge.com/event/music-bingo-at-altruist/2024-08-28/
LOCATION:Altruist Brewing Company\, 559 Main Street\, Sturbridge\, MA\, 01518\, United States
ATTACH;FMTTYPE=image/png:https://experiencesturbridge.com/wp-content/uploads/2023/10/Music-Bingo.png
END:VEVENT
BEGIN:VEVENT
DTSTART;TZID=America/New_York:20240822T183000
DTEND;TZID=America/New_York:20240822T210000
DTSTAMP:20260422T063950
CREATED:20230829T210705Z
LAST-MODIFIED:20240102T185516Z
UID:10001281-1724351400-1724360400@experiencesturbridge.com
SUMMARY:Thursday Night Trivia
DESCRIPTION:Join us here in the taproom every Thursday night for General Trivia with Good Times!\nRegistration 630pm\nTrivia kicks off at 7pm\nTaproom open 4pm-10pm\nBring your own food or check out our bites menu at Altruistbrewing.com
URL:https://experiencesturbridge.com/event/thursday-night-trivia/2024-08-22/
LOCATION:Altruist Brewing Company\, 559 Main Street\, Sturbridge\, MA\, 01518\, United States
ATTACH;FMTTYPE=image/jpeg:https://experiencesturbridge.com/wp-content/uploads/2023/08/Good-Times-LOGO-original.jpeg
END:VEVENT
BEGIN:VEVENT
DTSTART;TZID=America/New_York:20240815T183000
DTEND;TZID=America/New_York:20240815T210000
DTSTAMP:20260422T063950
CREATED:20230829T210705Z
LAST-MODIFIED:20240102T185516Z
UID:10001280-1723746600-1723755600@experiencesturbridge.com
SUMMARY:Thursday Night Trivia
DESCRIPTION:Join us here in the taproom every Thursday night for General Trivia with Good Times!\nRegistration 630pm\nTrivia kicks off at 7pm\nTaproom open 4pm-10pm\nBring your own food or check out our bites menu at Altruistbrewing.com
URL:https://experiencesturbridge.com/event/thursday-night-trivia/2024-08-15/
LOCATION:Altruist Brewing Company\, 559 Main Street\, Sturbridge\, MA\, 01518\, United States
ATTACH;FMTTYPE=image/jpeg:https://experiencesturbridge.com/wp-content/uploads/2023/08/Good-Times-LOGO-original.jpeg
END:VEVENT
BEGIN:VEVENT
DTSTART;TZID=America/New_York:20240808T183000
DTEND;TZID=America/New_York:20240808T210000
DTSTAMP:20260422T063950
CREATED:20230829T210705Z
LAST-MODIFIED:20240102T185516Z
UID:10001279-1723141800-1723150800@experiencesturbridge.com
SUMMARY:Thursday Night Trivia
DESCRIPTION:Join us here in the taproom every Thursday night for General Trivia with Good Times!\nRegistration 630pm\nTrivia kicks off at 7pm\nTaproom open 4pm-10pm\nBring your own food or check out our bites menu at Altruistbrewing.com
URL:https://experiencesturbridge.com/event/thursday-night-trivia/2024-08-08/
LOCATION:Altruist Brewing Company\, 559 Main Street\, Sturbridge\, MA\, 01518\, United States
ATTACH;FMTTYPE=image/jpeg:https://experiencesturbridge.com/wp-content/uploads/2023/08/Good-Times-LOGO-original.jpeg
END:VEVENT
BEGIN:VEVENT
DTSTART;TZID=America/New_York:20240801T183000
DTEND;TZID=America/New_York:20240801T210000
DTSTAMP:20260422T063950
CREATED:20230829T210705Z
LAST-MODIFIED:20240102T185516Z
UID:10001278-1722537000-1722546000@experiencesturbridge.com
SUMMARY:Thursday Night Trivia
DESCRIPTION:Join us here in the taproom every Thursday night for General Trivia with Good Times!\nRegistration 630pm\nTrivia kicks off at 7pm\nTaproom open 4pm-10pm\nBring your own food or check out our bites menu at Altruistbrewing.com
URL:https://experiencesturbridge.com/event/thursday-night-trivia/2024-08-01/
LOCATION:Altruist Brewing Company\, 559 Main Street\, Sturbridge\, MA\, 01518\, United States
ATTACH;FMTTYPE=image/jpeg:https://experiencesturbridge.com/wp-content/uploads/2023/08/Good-Times-LOGO-original.jpeg
END:VEVENT
BEGIN:VEVENT
DTSTART;TZID=America/New_York:20240731T180000
DTEND;TZID=America/New_York:20240731T200000
DTSTAMP:20260422T063950
CREATED:20231024T163047Z
LAST-MODIFIED:20231024T163047Z
UID:10001307-1722448800-1722456000@experiencesturbridge.com
SUMMARY:Music Bingo at Altruist!
DESCRIPTION:Free to play\, prizes to win! Join us for Music bingo here in the taproom 6pm-8pm!
URL:https://experiencesturbridge.com/event/music-bingo-at-altruist/2024-07-31/
LOCATION:Altruist Brewing Company\, 559 Main Street\, Sturbridge\, MA\, 01518\, United States
ATTACH;FMTTYPE=image/png:https://experiencesturbridge.com/wp-content/uploads/2023/10/Music-Bingo.png
END:VEVENT
BEGIN:VEVENT
DTSTART;TZID=America/New_York:20240725T183000
DTEND;TZID=America/New_York:20240725T210000
DTSTAMP:20260422T063950
CREATED:20230829T210705Z
LAST-MODIFIED:20240102T185516Z
UID:10001277-1721932200-1721941200@experiencesturbridge.com
SUMMARY:Thursday Night Trivia
DESCRIPTION:Join us here in the taproom every Thursday night for General Trivia with Good Times!\nRegistration 630pm\nTrivia kicks off at 7pm\nTaproom open 4pm-10pm\nBring your own food or check out our bites menu at Altruistbrewing.com
URL:https://experiencesturbridge.com/event/thursday-night-trivia/2024-07-25/
LOCATION:Altruist Brewing Company\, 559 Main Street\, Sturbridge\, MA\, 01518\, United States
ATTACH;FMTTYPE=image/jpeg:https://experiencesturbridge.com/wp-content/uploads/2023/08/Good-Times-LOGO-original.jpeg
END:VEVENT
BEGIN:VEVENT
DTSTART;TZID=America/New_York:20240718T183000
DTEND;TZID=America/New_York:20240718T210000
DTSTAMP:20260422T063950
CREATED:20230829T210705Z
LAST-MODIFIED:20240102T185516Z
UID:10001276-1721327400-1721336400@experiencesturbridge.com
SUMMARY:Thursday Night Trivia
DESCRIPTION:Join us here in the taproom every Thursday night for General Trivia with Good Times!\nRegistration 630pm\nTrivia kicks off at 7pm\nTaproom open 4pm-10pm\nBring your own food or check out our bites menu at Altruistbrewing.com
URL:https://experiencesturbridge.com/event/thursday-night-trivia/2024-07-18/
LOCATION:Altruist Brewing Company\, 559 Main Street\, Sturbridge\, MA\, 01518\, United States
ATTACH;FMTTYPE=image/jpeg:https://experiencesturbridge.com/wp-content/uploads/2023/08/Good-Times-LOGO-original.jpeg
END:VEVENT
BEGIN:VEVENT
DTSTART;TZID=America/New_York:20240711T183000
DTEND;TZID=America/New_York:20240711T210000
DTSTAMP:20260422T063950
CREATED:20230829T210705Z
LAST-MODIFIED:20240102T185516Z
UID:10001275-1720722600-1720731600@experiencesturbridge.com
SUMMARY:Thursday Night Trivia
DESCRIPTION:Join us here in the taproom every Thursday night for General Trivia with Good Times!\nRegistration 630pm\nTrivia kicks off at 7pm\nTaproom open 4pm-10pm\nBring your own food or check out our bites menu at Altruistbrewing.com
URL:https://experiencesturbridge.com/event/thursday-night-trivia/2024-07-11/
LOCATION:Altruist Brewing Company\, 559 Main Street\, Sturbridge\, MA\, 01518\, United States
ATTACH;FMTTYPE=image/jpeg:https://experiencesturbridge.com/wp-content/uploads/2023/08/Good-Times-LOGO-original.jpeg
END:VEVENT
BEGIN:VEVENT
DTSTART;TZID=America/New_York:20240704T183000
DTEND;TZID=America/New_York:20240704T210000
DTSTAMP:20260422T063950
CREATED:20230829T210705Z
LAST-MODIFIED:20240102T185516Z
UID:10001274-1720117800-1720126800@experiencesturbridge.com
SUMMARY:Thursday Night Trivia
DESCRIPTION:Join us here in the taproom every Thursday night for General Trivia with Good Times!\nRegistration 630pm\nTrivia kicks off at 7pm\nTaproom open 4pm-10pm\nBring your own food or check out our bites menu at Altruistbrewing.com
URL:https://experiencesturbridge.com/event/thursday-night-trivia/2024-07-04/
LOCATION:Altruist Brewing Company\, 559 Main Street\, Sturbridge\, MA\, 01518\, United States
ATTACH;FMTTYPE=image/jpeg:https://experiencesturbridge.com/wp-content/uploads/2023/08/Good-Times-LOGO-original.jpeg
END:VEVENT
BEGIN:VEVENT
DTSTART;TZID=America/New_York:20240627T183000
DTEND;TZID=America/New_York:20240627T210000
DTSTAMP:20260422T063950
CREATED:20230829T210705Z
LAST-MODIFIED:20240102T185516Z
UID:10001273-1719513000-1719522000@experiencesturbridge.com
SUMMARY:Thursday Night Trivia
DESCRIPTION:Join us here in the taproom every Thursday night for General Trivia with Good Times!\nRegistration 630pm\nTrivia kicks off at 7pm\nTaproom open 4pm-10pm\nBring your own food or check out our bites menu at Altruistbrewing.com
URL:https://experiencesturbridge.com/event/thursday-night-trivia/2024-06-27/
LOCATION:Altruist Brewing Company\, 559 Main Street\, Sturbridge\, MA\, 01518\, United States
ATTACH;FMTTYPE=image/jpeg:https://experiencesturbridge.com/wp-content/uploads/2023/08/Good-Times-LOGO-original.jpeg
END:VEVENT
BEGIN:VEVENT
DTSTART;TZID=America/New_York:20240626T180000
DTEND;TZID=America/New_York:20240626T200000
DTSTAMP:20260422T063950
CREATED:20231024T163047Z
LAST-MODIFIED:20231024T163047Z
UID:10001306-1719424800-1719432000@experiencesturbridge.com
SUMMARY:Music Bingo at Altruist!
DESCRIPTION:Free to play\, prizes to win! Join us for Music bingo here in the taproom 6pm-8pm!
URL:https://experiencesturbridge.com/event/music-bingo-at-altruist/2024-06-26/
LOCATION:Altruist Brewing Company\, 559 Main Street\, Sturbridge\, MA\, 01518\, United States
ATTACH;FMTTYPE=image/png:https://experiencesturbridge.com/wp-content/uploads/2023/10/Music-Bingo.png
END:VEVENT
BEGIN:VEVENT
DTSTART;TZID=America/New_York:20240620T183000
DTEND;TZID=America/New_York:20240620T210000
DTSTAMP:20260422T063950
CREATED:20230829T210705Z
LAST-MODIFIED:20240102T185516Z
UID:10001272-1718908200-1718917200@experiencesturbridge.com
SUMMARY:Thursday Night Trivia
DESCRIPTION:Join us here in the taproom every Thursday night for General Trivia with Good Times!\nRegistration 630pm\nTrivia kicks off at 7pm\nTaproom open 4pm-10pm\nBring your own food or check out our bites menu at Altruistbrewing.com
URL:https://experiencesturbridge.com/event/thursday-night-trivia/2024-06-20/
LOCATION:Altruist Brewing Company\, 559 Main Street\, Sturbridge\, MA\, 01518\, United States
ATTACH;FMTTYPE=image/jpeg:https://experiencesturbridge.com/wp-content/uploads/2023/08/Good-Times-LOGO-original.jpeg
END:VEVENT
BEGIN:VEVENT
DTSTART;TZID=America/New_York:20240613T183000
DTEND;TZID=America/New_York:20240613T210000
DTSTAMP:20260422T063950
CREATED:20230829T210705Z
LAST-MODIFIED:20240102T185516Z
UID:10001271-1718303400-1718312400@experiencesturbridge.com
SUMMARY:Thursday Night Trivia
DESCRIPTION:Join us here in the taproom every Thursday night for General Trivia with Good Times!\nRegistration 630pm\nTrivia kicks off at 7pm\nTaproom open 4pm-10pm\nBring your own food or check out our bites menu at Altruistbrewing.com
URL:https://experiencesturbridge.com/event/thursday-night-trivia/2024-06-13/
LOCATION:Altruist Brewing Company\, 559 Main Street\, Sturbridge\, MA\, 01518\, United States
ATTACH;FMTTYPE=image/jpeg:https://experiencesturbridge.com/wp-content/uploads/2023/08/Good-Times-LOGO-original.jpeg
END:VEVENT
BEGIN:VEVENT
DTSTART;TZID=America/New_York:20240606T183000
DTEND;TZID=America/New_York:20240606T210000
DTSTAMP:20260422T063950
CREATED:20230829T210705Z
LAST-MODIFIED:20240102T185516Z
UID:10001270-1717698600-1717707600@experiencesturbridge.com
SUMMARY:Thursday Night Trivia
DESCRIPTION:Join us here in the taproom every Thursday night for General Trivia with Good Times!\nRegistration 630pm\nTrivia kicks off at 7pm\nTaproom open 4pm-10pm\nBring your own food or check out our bites menu at Altruistbrewing.com
URL:https://experiencesturbridge.com/event/thursday-night-trivia/2024-06-06/
LOCATION:Altruist Brewing Company\, 559 Main Street\, Sturbridge\, MA\, 01518\, United States
ATTACH;FMTTYPE=image/jpeg:https://experiencesturbridge.com/wp-content/uploads/2023/08/Good-Times-LOGO-original.jpeg
END:VEVENT
BEGIN:VEVENT
DTSTART;TZID=America/New_York:20240530T183000
DTEND;TZID=America/New_York:20240530T210000
DTSTAMP:20260422T063950
CREATED:20230829T210705Z
LAST-MODIFIED:20240102T185516Z
UID:10001269-1717093800-1717102800@experiencesturbridge.com
SUMMARY:Thursday Night Trivia
DESCRIPTION:Join us here in the taproom every Thursday night for General Trivia with Good Times!\nRegistration 630pm\nTrivia kicks off at 7pm\nTaproom open 4pm-10pm\nBring your own food or check out our bites menu at Altruistbrewing.com
URL:https://experiencesturbridge.com/event/thursday-night-trivia/2024-05-30/
LOCATION:Altruist Brewing Company\, 559 Main Street\, Sturbridge\, MA\, 01518\, United States
ATTACH;FMTTYPE=image/jpeg:https://experiencesturbridge.com/wp-content/uploads/2023/08/Good-Times-LOGO-original.jpeg
END:VEVENT
BEGIN:VEVENT
DTSTART;TZID=America/New_York:20240529T180000
DTEND;TZID=America/New_York:20240529T200000
DTSTAMP:20260422T063950
CREATED:20231024T163047Z
LAST-MODIFIED:20231024T163047Z
UID:10001305-1717005600-1717012800@experiencesturbridge.com
SUMMARY:Music Bingo at Altruist!
DESCRIPTION:Free to play\, prizes to win! Join us for Music bingo here in the taproom 6pm-8pm!
URL:https://experiencesturbridge.com/event/music-bingo-at-altruist/2024-05-29/
LOCATION:Altruist Brewing Company\, 559 Main Street\, Sturbridge\, MA\, 01518\, United States
ATTACH;FMTTYPE=image/png:https://experiencesturbridge.com/wp-content/uploads/2023/10/Music-Bingo.png
END:VEVENT
BEGIN:VEVENT
DTSTART;TZID=America/New_York:20240523T183000
DTEND;TZID=America/New_York:20240523T210000
DTSTAMP:20260422T063950
CREATED:20230829T210705Z
LAST-MODIFIED:20240102T185516Z
UID:10001268-1716489000-1716498000@experiencesturbridge.com
SUMMARY:Thursday Night Trivia
DESCRIPTION:Join us here in the taproom every Thursday night for General Trivia with Good Times!\nRegistration 630pm\nTrivia kicks off at 7pm\nTaproom open 4pm-10pm\nBring your own food or check out our bites menu at Altruistbrewing.com
URL:https://experiencesturbridge.com/event/thursday-night-trivia/2024-05-23/
LOCATION:Altruist Brewing Company\, 559 Main Street\, Sturbridge\, MA\, 01518\, United States
ATTACH;FMTTYPE=image/jpeg:https://experiencesturbridge.com/wp-content/uploads/2023/08/Good-Times-LOGO-original.jpeg
END:VEVENT
BEGIN:VEVENT
DTSTART;TZID=America/New_York:20240516T183000
DTEND;TZID=America/New_York:20240516T210000
DTSTAMP:20260422T063950
CREATED:20230829T210705Z
LAST-MODIFIED:20240102T185516Z
UID:10001267-1715884200-1715893200@experiencesturbridge.com
SUMMARY:Thursday Night Trivia
DESCRIPTION:Join us here in the taproom every Thursday night for General Trivia with Good Times!\nRegistration 630pm\nTrivia kicks off at 7pm\nTaproom open 4pm-10pm\nBring your own food or check out our bites menu at Altruistbrewing.com
URL:https://experiencesturbridge.com/event/thursday-night-trivia/2024-05-16/
LOCATION:Altruist Brewing Company\, 559 Main Street\, Sturbridge\, MA\, 01518\, United States
ATTACH;FMTTYPE=image/jpeg:https://experiencesturbridge.com/wp-content/uploads/2023/08/Good-Times-LOGO-original.jpeg
END:VEVENT
BEGIN:VEVENT
DTSTART;TZID=America/New_York:20240509T183000
DTEND;TZID=America/New_York:20240509T210000
DTSTAMP:20260422T063950
CREATED:20230829T210705Z
LAST-MODIFIED:20240102T185516Z
UID:10001266-1715279400-1715288400@experiencesturbridge.com
SUMMARY:Thursday Night Trivia
DESCRIPTION:Join us here in the taproom every Thursday night for General Trivia with Good Times!\nRegistration 630pm\nTrivia kicks off at 7pm\nTaproom open 4pm-10pm\nBring your own food or check out our bites menu at Altruistbrewing.com
URL:https://experiencesturbridge.com/event/thursday-night-trivia/2024-05-09/
LOCATION:Altruist Brewing Company\, 559 Main Street\, Sturbridge\, MA\, 01518\, United States
ATTACH;FMTTYPE=image/jpeg:https://experiencesturbridge.com/wp-content/uploads/2023/08/Good-Times-LOGO-original.jpeg
END:VEVENT
BEGIN:VEVENT
DTSTART;TZID=America/New_York:20240502T183000
DTEND;TZID=America/New_York:20240502T210000
DTSTAMP:20260422T063950
CREATED:20230829T210705Z
LAST-MODIFIED:20240102T185516Z
UID:10001265-1714674600-1714683600@experiencesturbridge.com
SUMMARY:Thursday Night Trivia
DESCRIPTION:Join us here in the taproom every Thursday night for General Trivia with Good Times!\nRegistration 630pm\nTrivia kicks off at 7pm\nTaproom open 4pm-10pm\nBring your own food or check out our bites menu at Altruistbrewing.com
URL:https://experiencesturbridge.com/event/thursday-night-trivia/2024-05-02/
LOCATION:Altruist Brewing Company\, 559 Main Street\, Sturbridge\, MA\, 01518\, United States
ATTACH;FMTTYPE=image/jpeg:https://experiencesturbridge.com/wp-content/uploads/2023/08/Good-Times-LOGO-original.jpeg
END:VEVENT
BEGIN:VEVENT
DTSTART;TZID=America/New_York:20240425T183000
DTEND;TZID=America/New_York:20240425T210000
DTSTAMP:20260422T063950
CREATED:20230829T210705Z
LAST-MODIFIED:20240102T185516Z
UID:10001264-1714069800-1714078800@experiencesturbridge.com
SUMMARY:Thursday Night Trivia
DESCRIPTION:Join us here in the taproom every Thursday night for General Trivia with Good Times!\nRegistration 630pm\nTrivia kicks off at 7pm\nTaproom open 4pm-10pm\nBring your own food or check out our bites menu at Altruistbrewing.com
URL:https://experiencesturbridge.com/event/thursday-night-trivia/2024-04-25/
LOCATION:Altruist Brewing Company\, 559 Main Street\, Sturbridge\, MA\, 01518\, United States
ATTACH;FMTTYPE=image/jpeg:https://experiencesturbridge.com/wp-content/uploads/2023/08/Good-Times-LOGO-original.jpeg
END:VEVENT
BEGIN:VEVENT
DTSTART;TZID=America/New_York:20240424T180000
DTEND;TZID=America/New_York:20240424T200000
DTSTAMP:20260422T063950
CREATED:20231024T163047Z
LAST-MODIFIED:20231024T163047Z
UID:10001304-1713981600-1713988800@experiencesturbridge.com
SUMMARY:Music Bingo at Altruist!
DESCRIPTION:Free to play\, prizes to win! Join us for Music bingo here in the taproom 6pm-8pm!
URL:https://experiencesturbridge.com/event/music-bingo-at-altruist/2024-04-24/
LOCATION:Altruist Brewing Company\, 559 Main Street\, Sturbridge\, MA\, 01518\, United States
ATTACH;FMTTYPE=image/png:https://experiencesturbridge.com/wp-content/uploads/2023/10/Music-Bingo.png
END:VEVENT
BEGIN:VEVENT
DTSTART;TZID=America/New_York:20240418T183000
DTEND;TZID=America/New_York:20240418T210000
DTSTAMP:20260422T063950
CREATED:20230829T210705Z
LAST-MODIFIED:20240102T185516Z
UID:10001263-1713465000-1713474000@experiencesturbridge.com
SUMMARY:Thursday Night Trivia
DESCRIPTION:Join us here in the taproom every Thursday night for General Trivia with Good Times!\nRegistration 630pm\nTrivia kicks off at 7pm\nTaproom open 4pm-10pm\nBring your own food or check out our bites menu at Altruistbrewing.com
URL:https://experiencesturbridge.com/event/thursday-night-trivia/2024-04-18/
LOCATION:Altruist Brewing Company\, 559 Main Street\, Sturbridge\, MA\, 01518\, United States
ATTACH;FMTTYPE=image/jpeg:https://experiencesturbridge.com/wp-content/uploads/2023/08/Good-Times-LOGO-original.jpeg
END:VEVENT
BEGIN:VEVENT
DTSTART;TZID=America/New_York:20240411T183000
DTEND;TZID=America/New_York:20240411T210000
DTSTAMP:20260422T063950
CREATED:20230829T210705Z
LAST-MODIFIED:20240102T185516Z
UID:10001262-1712860200-1712869200@experiencesturbridge.com
SUMMARY:Thursday Night Trivia
DESCRIPTION:Join us here in the taproom every Thursday night for General Trivia with Good Times!\nRegistration 630pm\nTrivia kicks off at 7pm\nTaproom open 4pm-10pm\nBring your own food or check out our bites menu at Altruistbrewing.com
URL:https://experiencesturbridge.com/event/thursday-night-trivia/2024-04-11/
LOCATION:Altruist Brewing Company\, 559 Main Street\, Sturbridge\, MA\, 01518\, United States
ATTACH;FMTTYPE=image/jpeg:https://experiencesturbridge.com/wp-content/uploads/2023/08/Good-Times-LOGO-original.jpeg
END:VEVENT
END:VCALENDAR