BEGIN:VCALENDAR
VERSION:2.0
PRODID:-//Sturbridge - ECPv6.15.20//NONSGML v1.0//EN
CALSCALE:GREGORIAN
METHOD:PUBLISH
X-WR-CALNAME:Sturbridge
X-ORIGINAL-URL:https://experiencesturbridge.com
X-WR-CALDESC:Events for Sturbridge
REFRESH-INTERVAL;VALUE=DURATION:PT1H
X-Robots-Tag:noindex
X-PUBLISHED-TTL:PT1H
BEGIN:VTIMEZONE
TZID:America/New_York
BEGIN:DAYLIGHT
TZOFFSETFROM:-0500
TZOFFSETTO:-0400
TZNAME:EDT
DTSTART:20250309T070000
END:DAYLIGHT
BEGIN:STANDARD
TZOFFSETFROM:-0400
TZOFFSETTO:-0500
TZNAME:EST
DTSTART:20251102T060000
END:STANDARD
BEGIN:DAYLIGHT
TZOFFSETFROM:-0500
TZOFFSETTO:-0400
TZNAME:EDT
DTSTART:20260308T070000
END:DAYLIGHT
BEGIN:STANDARD
TZOFFSETFROM:-0400
TZOFFSETTO:-0500
TZNAME:EST
DTSTART:20261101T060000
END:STANDARD
BEGIN:DAYLIGHT
TZOFFSETFROM:-0500
TZOFFSETTO:-0400
TZNAME:EDT
DTSTART:20270314T070000
END:DAYLIGHT
BEGIN:STANDARD
TZOFFSETFROM:-0400
TZOFFSETTO:-0500
TZNAME:EST
DTSTART:20271107T060000
END:STANDARD
END:VTIMEZONE
BEGIN:VEVENT
DTSTART;TZID=America/New_York:20260510T110000
DTEND;TZID=America/New_York:20260510T120000
DTSTAMP:20260422T125656
CREATED:20260420T163226Z
LAST-MODIFIED:20260420T163226Z
UID:10003007-1778410800-1778414400@experiencesturbridge.com
SUMMARY:Agronomy Mother's Day Yoga Class
DESCRIPTION:Make this Mother’s Day extra special by joining us at Agronomy Farm Vineyard for a rejuvenating yoga practice followed by a glass of wine or cider of your choice! \nThis yoga class will be focused on relaxing\, stretching\, and strengthening\, all level students are welcome! Please bring your own yoga mat. \nClass is from 11-11:50\, vineyard opens at 12 to the public. \n$20 per person includes class & 1 drink. You can pay cash or Venmo that day. \nDrop-ins only. No need to sign up in advance.
URL:https://experiencesturbridge.com/event/agronomy-mothers-day-yoga-class/
LOCATION:Agronomy Farm Vineyard\, 338 Ware Corner Rd\, Oakham\, MA\, United States\, 01068\, Oakham\, MA\, 01068\, United States
ATTACH;FMTTYPE=image/jpeg:https://experiencesturbridge.com/wp-content/uploads/2026/04/669476669_122199045836336672_5321054978724337958_n-scaled.jpg
ORGANIZER;CN="Agronomy Farm Vineyard":MAILTO:agronomyfarmvineyard@gmail.com
END:VEVENT
END:VCALENDAR