BEGIN:VCALENDAR
VERSION:2.0
PRODID:-//Sturbridge - ECPv6.15.20//NONSGML v1.0//EN
CALSCALE:GREGORIAN
METHOD:PUBLISH
X-WR-CALNAME:Sturbridge
X-ORIGINAL-URL:https://experiencesturbridge.com
X-WR-CALDESC:Events for Sturbridge
REFRESH-INTERVAL;VALUE=DURATION:PT1H
X-Robots-Tag:noindex
X-PUBLISHED-TTL:PT1H
BEGIN:VTIMEZONE
TZID:America/New_York
BEGIN:DAYLIGHT
TZOFFSETFROM:-0500
TZOFFSETTO:-0400
TZNAME:EDT
DTSTART:20240310T070000
END:DAYLIGHT
BEGIN:STANDARD
TZOFFSETFROM:-0400
TZOFFSETTO:-0500
TZNAME:EST
DTSTART:20241103T060000
END:STANDARD
BEGIN:DAYLIGHT
TZOFFSETFROM:-0500
TZOFFSETTO:-0400
TZNAME:EDT
DTSTART:20250309T070000
END:DAYLIGHT
BEGIN:STANDARD
TZOFFSETFROM:-0400
TZOFFSETTO:-0500
TZNAME:EST
DTSTART:20251102T060000
END:STANDARD
BEGIN:DAYLIGHT
TZOFFSETFROM:-0500
TZOFFSETTO:-0400
TZNAME:EDT
DTSTART:20260308T070000
END:DAYLIGHT
BEGIN:STANDARD
TZOFFSETFROM:-0400
TZOFFSETTO:-0500
TZNAME:EST
DTSTART:20261101T060000
END:STANDARD
END:VTIMEZONE
BEGIN:VEVENT
DTSTART;TZID=America/New_York:20250503T120000
DTEND;TZID=America/New_York:20250503T210000
DTSTAMP:20260421T053756
CREATED:20250430T181802Z
LAST-MODIFIED:20250430T181802Z
UID:10002175-1746273600-1746306000@experiencesturbridge.com
SUMMARY:2025 Re-Opening Party at Brimfield Winery
DESCRIPTION:Brimfield Winery re-opens for the 2025 season on Opening Day from 12–9 PM! Enjoy delicious offerings from the Crust & Confections food truck and a special Wine & Cheese Pairing Experience open to the public. Led by sommelier Missa Capozzo of Wine Down Events\, the guided tasting features 5 Brimfield wines expertly paired with 5 artisanal cheeses from Smith’s Country Cheese (Winchendon\, MA). This 21+ event offers a fun\, relaxed way to learn wine and food pairing basics. Arrive early to grab a glass of wine and enjoy live music!
URL:https://experiencesturbridge.com/event/2025-re-opening-party-at-brimfield-winery/
LOCATION:Brimfield Winery\, 35 Main Street\, Brimfield\, MA\, 01010\, United States
CATEGORIES:Special Event
ATTACH;FMTTYPE=image/jpeg:https://experiencesturbridge.com/wp-content/uploads/2025/04/barn-new-1.jpg
END:VEVENT
BEGIN:VEVENT
DTSTART;TZID=America/New_York:20250508T173000
DTEND;TZID=America/New_York:20250508T183000
DTSTAMP:20260421T053756
CREATED:20250430T182729Z
LAST-MODIFIED:20250430T182729Z
UID:10002176-1746725400-1746729000@experiencesturbridge.com
SUMMARY:Mother's Day Cupcake & Beer Flight Pairing
DESCRIPTION:Join Oakholm Brewing Company with a special Mother’s Day event! Create delicious cupcakes while pairing them with select beers. To sign up\, visit Cupcakes for Mom Tickets\, Thu\, May 8\, 2025 at 6:00 PM | Eventbrite
URL:https://experiencesturbridge.com/event/mothers-day-cupcake-beer-flight-pairing/
LOCATION:Oakholm Brewing Company\, 80 Lake Road\, Brookfield\, MA\, 01506\, United States
CATEGORIES:Dining
ATTACH;FMTTYPE=image/jpeg:https://experiencesturbridge.com/wp-content/uploads/2025/04/294759758_1079013589407223_3244719923153453309_n.jpg
END:VEVENT
BEGIN:VEVENT
DTSTART;TZID=America/New_York:20250510T120000
DTEND;TZID=America/New_York:20250510T160000
DTSTAMP:20260421T053756
CREATED:20250430T183421Z
LAST-MODIFIED:20250430T183421Z
UID:10002177-1746878400-1746892800@experiencesturbridge.com
SUMMARY:Mother's Day Sip & Shop at Oakholm Brewing Company
DESCRIPTION:Enjoy a fun-filled day shopping from local vendors while sipping craft beer or seltzer cocktails—perfect for spending time with Mom or finding a unique gift. For an exclusive experience\, purchase a VIP ticket for early access from 11 AM–12 PM\, a signature seltzer cocktail\, and a chance to win a vendor gift basket. The market runs from 12–4 PM\, featuring handcrafted goods like pottery\, candles\, jewelry\, plants\, cookies\, and more from over a dozen talented local artisans.
URL:https://experiencesturbridge.com/event/mothers-day-sip-shop-at-oakholm-brewing-company/
LOCATION:Oakholm Brewing Company\, 80 Lake Road\, Brookfield\, MA\, 01506\, United States
CATEGORIES:Special Event
ATTACH;FMTTYPE=image/jpeg:https://experiencesturbridge.com/wp-content/uploads/2025/04/342343620_128643913523358_183345774933457488_n.jpg
END:VEVENT
BEGIN:VEVENT
DTSTART;VALUE=DATE:20250513
DTEND;VALUE=DATE:20250519
DTSTAMP:20260421T053756
CREATED:20250403T212019Z
LAST-MODIFIED:20250403T212943Z
UID:10002147-1747094400-1747612799@experiencesturbridge.com
SUMMARY:Brimfield Antiques & Collectibles Shows
DESCRIPTION:Since 1959\, Brimfield\, Massachusetts has been the Antique and Collectibles Capital of the United States. As the largest and most iconic outdoor antique show in the country\, it’s the ultimate destination for antique lovers\, collectors\, and treasure hunters. \nAs many as 4\,500 dealers make Brimfield their home away from home three times a year (in May\, July and September) and sell their wares on a one mile stretch of Route 20. Join the thousands of shoppers who make the Brimfield Shows their #1 destination for the finest in antiques\, collectibles and the unusual. There are 20 shows for your shopping pleasure. \nEach of the individually-owned Brimfield Antique Flea Market show fields have specific opening times\, contact information and admissions. Many of the events are free to attend. Detailed information is available on this website.
URL:https://experiencesturbridge.com/event/brimfield-antiques-collectibles-shows-3/
LOCATION:Brimfield Antiques Center\, 35 Palmer Road\, Brimfield\, MA\, 01010\, United States
CATEGORIES:Festivals
ATTACH;FMTTYPE=image/jpeg:https://experiencesturbridge.com/wp-content/uploads/2021/10/brimfield-seavey-780x521-1.jpg
END:VEVENT
BEGIN:VEVENT
DTSTART;TZID=America/New_York:20250520T183000
DTEND;TZID=America/New_York:20250520T200000
DTSTAMP:20260421T053756
CREATED:20250403T205629Z
LAST-MODIFIED:20250403T205629Z
UID:10002145-1747765800-1747771200@experiencesturbridge.com
SUMMARY:Wine Tasting at Tutti Quanti
DESCRIPTION:Join Tutti Quanti for a night of wine tasting and fun! Attendees will gain insights into the principles of pairing different wines with specific types of cuisine\, creating a sensory journey that celebrates the nuances of both food and wine in a relaxed\, social atmosphere. Savor a carefully curated selection of our wines paired with our products. \nRegistration fee is $10-$15 and can be purchased on EventBrite. Refunds are not available. Guests will receive a $5 voucher to be used for a store purchase and are able to shop for wine and food after the event.
URL:https://experiencesturbridge.com/event/wine-tasting-at-tutti-quanti/2025-05-20/
LOCATION:Tutti Quanti Fine Italian Food\, 538 Main Street\, Sturbridge\, NY\, 01518\, United States
CATEGORIES:Special Event
ATTACH;FMTTYPE=image/jpeg:https://experiencesturbridge.com/wp-content/uploads/2025/04/415006146_354760670634885_1685755660903924591_n.jpg
END:VEVENT
BEGIN:VEVENT
DTSTART;TZID=America/New_York:20250528T180000
DTEND;TZID=America/New_York:20250528T200000
DTSTAMP:20260421T053756
CREATED:20231024T163047Z
LAST-MODIFIED:20231024T163047Z
UID:10001317-1748455200-1748462400@experiencesturbridge.com
SUMMARY:Music Bingo at Altruist!
DESCRIPTION:Free to play\, prizes to win! Join us for Music bingo here in the taproom 6pm-8pm!
URL:https://experiencesturbridge.com/event/music-bingo-at-altruist/2025-05-28/
LOCATION:Altruist Brewing Company\, 559 Main Street\, Sturbridge\, MA\, 01518\, United States
ATTACH;FMTTYPE=image/png:https://experiencesturbridge.com/wp-content/uploads/2023/10/Music-Bingo.png
END:VEVENT
END:VCALENDAR