BEGIN:VCALENDAR
VERSION:2.0
PRODID:-//Sturbridge - ECPv6.15.20//NONSGML v1.0//EN
CALSCALE:GREGORIAN
METHOD:PUBLISH
X-WR-CALNAME:Sturbridge
X-ORIGINAL-URL:https://experiencesturbridge.com
X-WR-CALDESC:Events for Sturbridge
REFRESH-INTERVAL;VALUE=DURATION:PT1H
X-Robots-Tag:noindex
X-PUBLISHED-TTL:PT1H
BEGIN:VTIMEZONE
TZID:America/New_York
BEGIN:DAYLIGHT
TZOFFSETFROM:-0500
TZOFFSETTO:-0400
TZNAME:EDT
DTSTART:20230312T070000
END:DAYLIGHT
BEGIN:STANDARD
TZOFFSETFROM:-0400
TZOFFSETTO:-0500
TZNAME:EST
DTSTART:20231105T060000
END:STANDARD
BEGIN:DAYLIGHT
TZOFFSETFROM:-0500
TZOFFSETTO:-0400
TZNAME:EDT
DTSTART:20240310T070000
END:DAYLIGHT
BEGIN:STANDARD
TZOFFSETFROM:-0400
TZOFFSETTO:-0500
TZNAME:EST
DTSTART:20241103T060000
END:STANDARD
BEGIN:DAYLIGHT
TZOFFSETFROM:-0500
TZOFFSETTO:-0400
TZNAME:EDT
DTSTART:20250309T070000
END:DAYLIGHT
BEGIN:STANDARD
TZOFFSETFROM:-0400
TZOFFSETTO:-0500
TZNAME:EST
DTSTART:20251102T060000
END:STANDARD
BEGIN:DAYLIGHT
TZOFFSETFROM:-0500
TZOFFSETTO:-0400
TZNAME:EDT
DTSTART:20260308T070000
END:DAYLIGHT
BEGIN:STANDARD
TZOFFSETFROM:-0400
TZOFFSETTO:-0500
TZNAME:EST
DTSTART:20261101T060000
END:STANDARD
END:VTIMEZONE
BEGIN:VEVENT
DTSTART;VALUE=DATE:20240921
DTEND;VALUE=DATE:20241104
DTSTAMP:20260421T053755
CREATED:20240904T151828Z
LAST-MODIFIED:20240904T151828Z
UID:10001559-1726876800-1730678399@experiencesturbridge.com
SUMMARY:Walktober in the Last Green Valley
DESCRIPTION:Walktober is the biggest and best celebration of autumn in Southern New England. The 34th Annual Walktober guide gives you more than 230 unique opportunities to experience the wonders of one of the nation’s oldest National Heritage Corridors in its most colorful season. For more information on Walktober\, use the Last Green Valley guide to Walktober 2024.
URL:https://experiencesturbridge.com/event/walktober-in-the-last-green-valley/
LOCATION:MA
ATTACH;FMTTYPE=image/jpeg:https://experiencesturbridge.com/wp-content/uploads/2024/09/pexels-valiphotos-589841-scaled.jpg
END:VEVENT
BEGIN:VEVENT
DTSTART;TZID=America/New_York:20241109T090000
DTEND;TZID=America/New_York:20241109T103000
DTSTAMP:20260421T053756
CREATED:20241030T003226Z
LAST-MODIFIED:20241030T003412Z
UID:10001670-1731142800-1731148200@experiencesturbridge.com
SUMMARY:6th Annual Home of the Brave 5K
DESCRIPTION:6th Annual Home of the Brave 5k Run/Walk presented by: Sturbridge Special Events Committee. Join us in celebrating the bravery and dedication of our veterans. All proceeds from the race will benefit the Sturbridge American Legion. Over the past years funds have also been donated to Veterans Inc. and Project New Hope. \n\n\nRace Day Schedule: \n7:30 AM: Packet Pickup and Day-Of Registration Begins \n9:00 AM: 5K Race Start \n10:00 AM to 10:30 AM estimated based on all participants completing the course. Awards Ceremony on the Common \nCourse Map: Click Here to view Map \nRegistration Pricing:  \nIn-person: $25 (T-shirt included if registered by 11/01)\nVirtual: $25 (No T-Shirt)\nVirtual: $32 (includes shipping. T-shirt shipped to you included if registered by 11/01)\nMilitary: $10 (T-shirt included if registered by 11/01) / $20 Day-Of\nDay-of Registration: $30 (T-shirt based on availability) \nGuaranteed race T-shirts for participants who register by November 01. \nMedals: \n– Fastest Military Male & Female In-Person Finishers\n– Fastest Overall Male & Female In-Person Finishers\n– Fastest Male & Female in Each Age Divisions \nParking: Within a short walk of the Sturbridge Town Common. \nVolunteers Needed: \nJoin a passionate 5K Crew and run for free! The race is on the lookout for more enthusiastic volunteers to help bring this race to life. Whether you’re a seasoned volunteer or new to the scene\, your efforts make a world of difference. \nCome learn and experience the inner workings of an all-volunteer fundraising race\, where every helping hand counts towards a greater cause!
URL:https://experiencesturbridge.com/event/6th-annual-home-of-the-brave-5k/
LOCATION:Sturbridge Town Common\, Main St\, Sturbridge\, MA\, 01566\, United States
ATTACH;FMTTYPE=image/jpeg:https://experiencesturbridge.com/wp-content/uploads/2024/10/womenRunnerGroup_1500-400-e1730248444296.jpg
END:VEVENT
BEGIN:VEVENT
DTSTART;VALUE=DATE:20241115
DTEND;VALUE=DATE:20250414
DTSTAMP:20260421T053756
CREATED:20241010T003730Z
LAST-MODIFIED:20241010T003813Z
UID:10001581-1731628800-1744588799@experiencesturbridge.com
SUMMARY:Fireplace Feast at the Salem Cross Inn
DESCRIPTION:Salem Cross Inn invites you to join them for a series of 1700’s style feasts prepared on the open hearth of a great fieldstone fireplace. Relax by the fire as dinner is prepared for you in colonial style. While your dinner is cooking to perfection\, enjoy a horse drawn wagon or sleigh ride through the valley on the Inn’s 600 acres. Salem Cross Inn captures the history and culture of 1700’s America and provides their guests with an authentic colonial experience. For more information\, see the 2024-2025 Fireplace Feast Brochure. 
URL:https://experiencesturbridge.com/event/fireplace-feast-at-the-salem-cross-inn-2/
LOCATION:Salem Cross Inn\, 260 W Main St\, West Brookfield\, MA\, 01585\, United States
ATTACH;FMTTYPE=image/jpeg:https://experiencesturbridge.com/wp-content/uploads/2024/09/421023776_757503859745990_8560747830041514208_n.jpg
END:VEVENT
BEGIN:VEVENT
DTSTART;TZID=America/New_York:20241119T183000
DTEND;TZID=America/New_York:20241119T210000
DTSTAMP:20260421T053756
CREATED:20241118T171608Z
LAST-MODIFIED:20241118T171608Z
UID:10001676-1732041000-1732050000@experiencesturbridge.com
SUMMARY:Friendsgiving Beer Dinner at UNO
DESCRIPTION:Friendsgiving Beer Dinner at UNO \nEnjoy a delicious Friendsgiving Beer Dinner at UNO Pizzeria & Grill featuring Greater Good Brewery! Indulge in a mouthwatering feast specially crafted for this festive occasion. Enjoy a unique dining experience with friends\, good food\, and great beer. Don’t miss out on this opportunity to celebrate the holiday season in style. Reserve your spot now!
URL:https://experiencesturbridge.com/event/friendsgiving-beer-dinner-at-uno/
LOCATION:UNO Pizzeria & Grill\, 100 Charlton Road\, Sturbridge\, MA\, 01566\, United States
ATTACH;FMTTYPE=image/jpeg:https://experiencesturbridge.com/wp-content/uploads/2024/11/https___cdn.evbuc_.com_images_894392203_1368391665563_1_original.jpg
END:VEVENT
BEGIN:VEVENT
DTSTART;TZID=America/New_York:20241121T190000
DTEND;TZID=America/New_York:20241121T203000
DTSTAMP:20260421T053756
CREATED:20240923T123801Z
LAST-MODIFIED:20240923T124400Z
UID:10001665-1732215600-1732221000@experiencesturbridge.com
SUMMARY:“John Hinds Pottery/Kiln site in Holland”
DESCRIPTION:Doug Lyon and Mike Forand will present a program regarding the Hinds Site – an 18th-century potter/kiln site they found in Holland\, MA about 40 years ago. They worked with Old Sturbridge Village for about four seasons at the Hinds site during which they recovered an abundance of artifacts\, and uncovered the kiln base. OSV has generously made their documentation and artifacts available for this presentation.
URL:https://experiencesturbridge.com/event/john-hinds-pottery-kiln-site-in-holland/
LOCATION:Publick House\, 277 Main Street\, Sturbridge\, 01566
ATTACH;FMTTYPE=image/jpeg:https://experiencesturbridge.com/wp-content/uploads/2024/09/DSC_0615-scaled.jpg
ORGANIZER;CN="Sturbridge Historical Society":MAILTO:sgibquig@gmail.com
END:VEVENT
BEGIN:VEVENT
DTSTART;TZID=America/New_York:20241127T180000
DTEND;TZID=America/New_York:20241127T200000
DTSTAMP:20260421T053756
CREATED:20231024T163047Z
LAST-MODIFIED:20231024T163047Z
UID:10001311-1732730400-1732737600@experiencesturbridge.com
SUMMARY:Music Bingo at Altruist!
DESCRIPTION:Free to play\, prizes to win! Join us for Music bingo here in the taproom 6pm-8pm!
URL:https://experiencesturbridge.com/event/music-bingo-at-altruist/2024-11-27/
LOCATION:Altruist Brewing Company\, 559 Main Street\, Sturbridge\, MA\, 01518\, United States
ATTACH;FMTTYPE=image/png:https://experiencesturbridge.com/wp-content/uploads/2023/10/Music-Bingo.png
END:VEVENT
BEGIN:VEVENT
DTSTART;TZID=America/New_York:20241129T140000
DTEND;TZID=America/New_York:20241230T200000
DTSTAMP:20260421T053756
CREATED:20240905T145505Z
LAST-MODIFIED:20241210T182114Z
UID:10001647-1732888800-1735588800@experiencesturbridge.com
SUMMARY:Christmas by Candlelight
DESCRIPTION:Experience the history of Christmas festivities at Old Sturbridge Village. Relish in old traditions and create new ones as you watch demonstrations of classic Christmas projects\, stroll through the decorated Village and Christmas Tree Trail\, listen to stories and live music\, sample sweet treats\, and more.
URL:https://experiencesturbridge.com/event/christmas-by-candlelight-3/
LOCATION:Old Sturbridge Village\, 1 Old Sturbridge Village Road\, Sturbridge\, 01566\, United States
ATTACH;FMTTYPE=image/jpeg:https://experiencesturbridge.com/wp-content/uploads/2024/09/405300753_771461135009357_1326145070679823317_n.jpg
END:VEVENT
END:VCALENDAR