BEGIN:VCALENDAR
VERSION:2.0
PRODID:-//Sturbridge - ECPv6.15.20//NONSGML v1.0//EN
CALSCALE:GREGORIAN
METHOD:PUBLISH
X-WR-CALNAME:Sturbridge
X-ORIGINAL-URL:https://experiencesturbridge.com
X-WR-CALDESC:Events for Sturbridge
REFRESH-INTERVAL;VALUE=DURATION:PT1H
X-Robots-Tag:noindex
X-PUBLISHED-TTL:PT1H
BEGIN:VTIMEZONE
TZID:America/New_York
BEGIN:DAYLIGHT
TZOFFSETFROM:-0500
TZOFFSETTO:-0400
TZNAME:EDT
DTSTART:20230312T070000
END:DAYLIGHT
BEGIN:STANDARD
TZOFFSETFROM:-0400
TZOFFSETTO:-0500
TZNAME:EST
DTSTART:20231105T060000
END:STANDARD
BEGIN:DAYLIGHT
TZOFFSETFROM:-0500
TZOFFSETTO:-0400
TZNAME:EDT
DTSTART:20240310T070000
END:DAYLIGHT
BEGIN:STANDARD
TZOFFSETFROM:-0400
TZOFFSETTO:-0500
TZNAME:EST
DTSTART:20241103T060000
END:STANDARD
BEGIN:DAYLIGHT
TZOFFSETFROM:-0500
TZOFFSETTO:-0400
TZNAME:EDT
DTSTART:20250309T070000
END:DAYLIGHT
BEGIN:STANDARD
TZOFFSETFROM:-0400
TZOFFSETTO:-0500
TZNAME:EST
DTSTART:20251102T060000
END:STANDARD
END:VTIMEZONE
BEGIN:VEVENT
DTSTART;VALUE=DATE:20240921
DTEND;VALUE=DATE:20241104
DTSTAMP:20260421T053756
CREATED:20240904T151828Z
LAST-MODIFIED:20240904T151828Z
UID:10001559-1726876800-1730678399@experiencesturbridge.com
SUMMARY:Walktober in the Last Green Valley
DESCRIPTION:Walktober is the biggest and best celebration of autumn in Southern New England. The 34th Annual Walktober guide gives you more than 230 unique opportunities to experience the wonders of one of the nation’s oldest National Heritage Corridors in its most colorful season. For more information on Walktober\, use the Last Green Valley guide to Walktober 2024.
URL:https://experiencesturbridge.com/event/walktober-in-the-last-green-valley/
LOCATION:MA
ATTACH;FMTTYPE=image/jpeg:https://experiencesturbridge.com/wp-content/uploads/2024/09/pexels-valiphotos-589841-scaled.jpg
END:VEVENT
BEGIN:VEVENT
DTSTART;TZID=America/New_York:20241004T163000
DTEND;TZID=America/New_York:20241027T210000
DTSTAMP:20260421T053756
CREATED:20240904T173732Z
LAST-MODIFIED:20240926T155916Z
UID:10001563-1728059400-1730062800@experiencesturbridge.com
SUMMARY:Phantoms by Firelight at Old Sturbridge Village
DESCRIPTION:As twilight descends upon Old Sturbridge Village\, the veil between the living and the spectral world thins… Phantoms by Firelight returns for 12 nights of spine-tingling thrills and ghostly delights. This year’s event promises to be the most haunting yet\, with new and mesmerizing performances that will chill and enchant you in equal measure. Step into the flickering shadows of history\, where forgotten souls whisper their eerie tales. Discover the origins of Halloween\, test your bravery with hair-raising games\, and listen to chilling ghost stories around the roaring bonfire. Be entranced by fire dancers\, mystical music\, and acrobats soaring high above the Village. From restless specters to hidden secrets\, immerse yourself in history’s captivating mysteries. To buy tickets\, visit the Phantoms by Firelight website. 
URL:https://experiencesturbridge.com/event/phantoms-by-firelight-at-old-sturbridge-village/
LOCATION:Old Sturbridge Village\, 1 Old Sturbridge Village Road\, Sturbridge\, 01566\, United States
ATTACH;FMTTYPE=image/jpeg:https://experiencesturbridge.com/wp-content/uploads/2022/09/InteriorBanner_2560x853_Phantoms2022-scaled.jpeg
END:VEVENT
BEGIN:VEVENT
DTSTART;TZID=America/New_York:20241005T100000
DTEND;TZID=America/New_York:20241005T103000
DTSTAMP:20260421T053756
CREATED:20240923T123447Z
LAST-MODIFIED:20240923T124718Z
UID:10001664-1728122400-1728124200@experiencesturbridge.com
SUMMARY:Walking Tour of Tantiusques – The Sturbridge Leadmine
DESCRIPTION:This tour will be led by Ed Hood\, Executive Director of the Norcross Wildlife Foundation\, and an historian and archaeologist who led the excavations at the nearby Robert Crowd site\, home for one of the miners who worked at the Leadmine.  mine was the source of very high-quality graphite which Native Americans used and traded across the region and which early European settlers first attempted to mine in the 1640s. The walking tour will discuss this history and look at some of the remains of mining done in the mid-1800s when the mine was at its peak of production. The tour will then follow the Trustees of Reservations hiking trail around the site and out to the Robert Crowd archaeological site where the lives of miners and other residents of the site will be discussed. The tour will last about 1 hour and cover about a mile of trail\, some of which is rough and steep.  \nThe tour will start at the information kiosk for the Tantiusques Reservation\, 493 Leadmine Road\, Sturbridge. Registration preferred\, please contact sgibquig@gmail.com. 
URL:https://experiencesturbridge.com/event/walking-tour-of-tantiusques-the-sturbridge-leadmine/
LOCATION:MA
ATTACH;FMTTYPE=image/jpeg:https://experiencesturbridge.com/wp-content/uploads/2024/09/DSC_0049-1-scaled.jpg
ORGANIZER;CN="Sturbridge Historical Society":MAILTO:sgibquig@gmail.com
END:VEVENT
BEGIN:VEVENT
DTSTART;TZID=America/New_York:20241005T160000
DTEND;TZID=America/New_York:20241005T210000
DTSTAMP:20260421T053756
CREATED:20240904T172405Z
LAST-MODIFIED:20240904T172405Z
UID:10001562-1728144000-1728162000@experiencesturbridge.com
SUMMARY:Rocktober featuring the Legends Tour
DESCRIPTION:This Rocktober concert features interpretations of artists including Elvis\, Johnny Cash and Creedence Clearwater Revival performed by Robert Black and Sweet Hitch-Hiker. Come and enjoy Americana rock and food trucks at Brimfield winery. Gates open at 4pm.
URL:https://experiencesturbridge.com/event/rocktober-featuring-the-legends-tour/
LOCATION:Brimfield Winery\, 35 Main Street\, Brimfield\, MA\, 01010\, United States
ATTACH;FMTTYPE=image/jpeg:https://experiencesturbridge.com/wp-content/uploads/2024/09/pexels-wendywei-1864637-scaled.jpg
ORGANIZER;CN="Brimfield Winery":MAILTO:brimfieldwineryevents@gmail.com
END:VEVENT
BEGIN:VEVENT
DTSTART;TZID=America/New_York:20241012T100000
DTEND;TZID=America/New_York:20241012T150000
DTSTAMP:20260421T053756
CREATED:20240905T130930Z
LAST-MODIFIED:20240905T131442Z
UID:10001575-1728727200-1728745200@experiencesturbridge.com
SUMMARY:Brimfield Annual Auto Show
DESCRIPTION:Auction Acres presents the 16th Annual Brimfield Auto Show! There will be cars\, food trucks\, and beverages from the Brimfield Winery. All proceeds to benefit Hitchcock and Brimfield Firefighter’s Association. Car registration opens at 8am and it is $15 per vehicle. Admission is $5 and free for seniors\, military\, veterans\, and children under 13! \nRain date for the auto show is October 13th.
URL:https://experiencesturbridge.com/event/brimfield-annual-auto-show/
LOCATION:Brimfield Auction Acres\, 35 Main Street\, Brimfield\, MA\, 01010\, United States
ATTACH;FMTTYPE=image/jpeg:https://experiencesturbridge.com/wp-content/uploads/2024/09/pexels-jean-marc-bonnel-387362531-27090261-scaled.jpg
END:VEVENT
BEGIN:VEVENT
DTSTART;TZID=America/New_York:20241012T100000
DTEND;TZID=America/New_York:20241012T160000
DTSTAMP:20260421T053756
CREATED:20240905T132856Z
LAST-MODIFIED:20240905T132856Z
UID:10001576-1728727200-1728748800@experiencesturbridge.com
SUMMARY:45th Annual Apple Country Fair
DESCRIPTION:Showcasing the work of more than 90 local crafters\, the 45th annual Apple Country Fair will be held on the Brookfield Town Common\, on Saturday\, October 12\, 2024\, from 10 a.m. to 4 p.m. The Fair will also feature live music\, lawn games\, baked goods\, food trucks\, raffles\, and an apple pie contest — all to benefit the Brookfield Community Club\, a charitable organization that makes grants to enrich community life. For more information\, visit the 45th Annual Apple Country Fair Facebook page. 
URL:https://experiencesturbridge.com/event/45th-annual-apple-country-fair/
LOCATION:Brookfield Common Historic District\, Brookfield\, MA\, 01506\, United States
ATTACH;FMTTYPE=image/jpeg:https://experiencesturbridge.com/wp-content/uploads/2024/09/pexels-cenali-2487443-scaled.jpg
ORGANIZER;CN="Brookfield Community Club & Apple Country Fair":MAILTO:applecountryfair@gmail.com
END:VEVENT
BEGIN:VEVENT
DTSTART;TZID=America/New_York:20241019T100000
DTEND;TZID=America/New_York:20241020T170000
DTSTAMP:20260421T053756
CREATED:20240905T133650Z
LAST-MODIFIED:20240926T165732Z
UID:10001577-1729332000-1729443600@experiencesturbridge.com
SUMMARY:34th Annual Harvest Festival
DESCRIPTION:The Annual Harvest Festival on the Sturbridge Town Common is a family fun tradition that includes local crafters\, artisans\, specialty food vendors\, and farm fresh harvests. There will be live music and new features including an axe throwing trailer and kids bounce house! Admission is free. For more information visit the 34th Annual Harvest Festival Facebook page. 
URL:https://experiencesturbridge.com/event/34th-annual-harvest-festival/
LOCATION:Sturbridge Town Common\, Main St\, Sturbridge\, MA\, 01566\, United States
ATTACH;FMTTYPE=image/jpeg:https://experiencesturbridge.com/wp-content/uploads/2024/09/pexels-karolina-grabowska-5422857-scaled.jpg
END:VEVENT
BEGIN:VEVENT
DTSTART;TZID=America/New_York:20241027T100000
DTEND;TZID=America/New_York:20241027T160000
DTSTAMP:20260421T053756
CREATED:20240905T134443Z
LAST-MODIFIED:20240905T134443Z
UID:10001579-1730023200-1730044800@experiencesturbridge.com
SUMMARY:Halloween Party at Brookfield Orchards
DESCRIPTION:Details coming soon!
URL:https://experiencesturbridge.com/event/halloween-party-at-brookfield-orchards/
LOCATION:Brookfield Orchards\, 12 Lincoln Road\, North Brookfield\, MA\, 01535\, United States
ATTACH;FMTTYPE=image/jpeg:https://experiencesturbridge.com/wp-content/uploads/2024/09/pexels-karolina-grabowska-5422739-scaled.jpg
ORGANIZER;CN="Brookfield Orchards":MAILTO:brookfieldo@aol.com
END:VEVENT
BEGIN:VEVENT
DTSTART;TZID=America/New_York:20241030T180000
DTEND;TZID=America/New_York:20241030T200000
DTSTAMP:20260421T053756
CREATED:20231024T163047Z
LAST-MODIFIED:20231024T163047Z
UID:10001310-1730311200-1730318400@experiencesturbridge.com
SUMMARY:Music Bingo at Altruist!
DESCRIPTION:Free to play\, prizes to win! Join us for Music bingo here in the taproom 6pm-8pm!
URL:https://experiencesturbridge.com/event/music-bingo-at-altruist/2024-10-30/
LOCATION:Altruist Brewing Company\, 559 Main Street\, Sturbridge\, MA\, 01518\, United States
ATTACH;FMTTYPE=image/png:https://experiencesturbridge.com/wp-content/uploads/2023/10/Music-Bingo.png
END:VEVENT
END:VCALENDAR