BEGIN:VCALENDAR
VERSION:2.0
PRODID:-//Sturbridge - ECPv6.15.20//NONSGML v1.0//EN
CALSCALE:GREGORIAN
METHOD:PUBLISH
X-WR-CALNAME:Sturbridge
X-ORIGINAL-URL:https://experiencesturbridge.com
X-WR-CALDESC:Events for Sturbridge
REFRESH-INTERVAL;VALUE=DURATION:PT1H
X-Robots-Tag:noindex
X-PUBLISHED-TTL:PT1H
BEGIN:VTIMEZONE
TZID:America/New_York
BEGIN:DAYLIGHT
TZOFFSETFROM:-0500
TZOFFSETTO:-0400
TZNAME:EDT
DTSTART:20250309T070000
END:DAYLIGHT
BEGIN:STANDARD
TZOFFSETFROM:-0400
TZOFFSETTO:-0500
TZNAME:EST
DTSTART:20251102T060000
END:STANDARD
BEGIN:DAYLIGHT
TZOFFSETFROM:-0500
TZOFFSETTO:-0400
TZNAME:EDT
DTSTART:20260308T070000
END:DAYLIGHT
BEGIN:STANDARD
TZOFFSETFROM:-0400
TZOFFSETTO:-0500
TZNAME:EST
DTSTART:20261101T060000
END:STANDARD
BEGIN:DAYLIGHT
TZOFFSETFROM:-0500
TZOFFSETTO:-0400
TZNAME:EDT
DTSTART:20270314T070000
END:DAYLIGHT
BEGIN:STANDARD
TZOFFSETFROM:-0400
TZOFFSETTO:-0500
TZNAME:EST
DTSTART:20271107T060000
END:STANDARD
END:VTIMEZONE
BEGIN:VEVENT
DTSTART;TZID=America/New_York:20260401T093000
DTEND;TZID=America/New_York:20260430T170000
DTSTAMP:20260424T062736
CREATED:20260408T150357Z
LAST-MODIFIED:20260408T150357Z
UID:10002965-1775035800-1777568400@experiencesturbridge.com
SUMMARY:Kids Free April
DESCRIPTION:Time Travel Savings: Kids Free Admission! \nImmerse yourself in the beauty and charm of early spring as you explore the rich history of 19th-century New England. Explore the Village and enjoy the unique blend of hands-on learning\, participatory demonstrations\, and engaging conversation. Chat with our costumed historians\, step inside historic homes and shops\, meet our heritage breed animals\, and so much more. \nFrom Wednesday\, April 1\, through Thursday\, April 30\, 2026\, enjoy FREE admission* for up to two kids (ages 17 and under) with the purchase of an adult or senior general daytime admission ticket using code KID26 at checkout. Reserve your tickets online and save even more! Members can also bring up to two kids not already covered by their membership. \nInspire Your Child’s Curiosity \nWander through the recreated historical Village and chat with knowledgeable costumed historians who bring the past to life. Get out of the house and see our gardeners’ preparing fields and gardens for planting\, meet the new lambs\, and see sparks fly in the blacksmith shop. Every corner holds a new adventure\, and no two visits to OSV are alike. \nEnjoy Outdoor Family Fun \nCreate lasting memories together with friends and family. Wander our trails\, see the buds on the trees and flowers blossom\, make a craft together\, and enjoy quality time surrounded by the wonders of history. Join us during Connecticut and Massachusetts school vacation weeks for Family Field Days. \nEngage the Senses \nFrom the smell of food cooking over the open hearth to watching traditional crafts such as pottery\, and enjoying a tasty Joe Frogger or famous chocolate chip cookie\, we make history an interactive and engaging experience. \nStep into the Stories of the Past \nThis year\, as part of the commemoration of America 250 at the Village\, every day has special thematic demonstrations and performances focused on the first fifty years following the American Revolution. Daily schedules are posted on our website a few days in advance. \n 
URL:https://experiencesturbridge.com/event/kids-free-april/
LOCATION:Old Sturbridge Village\, 1 Old Sturbridge Village Road\, Sturbridge\, 01566\, United States
ATTACH;FMTTYPE=image/jpeg:https://experiencesturbridge.com/wp-content/uploads/2026/04/KidsFree-April-Homepage_FINAL-scaled.jpg
ORGANIZER;CN="Old Sturbridge Village":MAILTO:kmorrill@osv.org
END:VEVENT
BEGIN:VEVENT
DTSTART;TZID=America/New_York:20260415T093000
DTEND;TZID=America/New_York:20260426T170000
DTSTAMP:20260424T062736
CREATED:20260408T150235Z
LAST-MODIFIED:20260408T150235Z
UID:10002966-1776245400-1777222800@experiencesturbridge.com
SUMMARY:Family Field Days
DESCRIPTION:Kick off April school vacation with a round of friendly family competition! For ten days this April\, families of all ages\, shapes\, and sizes are welcome to join in a slate of 19th-century-inspired games\, competitions\, and feats of skill. Grab a scorecard and chart your progress as you see how far you can hit an 1830s baseball\, how long you can balance on a set of stilts\, and how many targets you can hit. Throughout the day\, guests will be welcome to try out additional drop-in games and activities. Village staff will be in on the fun\, too\, as costumed historians participate in craft and trade-related competitions. \nAs always\, guests can also chat with our costumed historians\, marvel at historical craft demonstrations\, visit with our heritage breed animals\, walk our nature trails\, explore our gardens\, and more! \nPLUS: This April\, kids received FREE admission with the purchase of an adult general admission ticket using code KID26. Up to two kids\, 17 years old or younger\, are admitted for free per adult paying for full-price general daytime admission. \nPlease note: Some activities may be weather-dependent. Schedules are subject to change without notice. \nGames & Activities: \nCompetitions \n\nGraces Toss\nTarget Shoot with Rubber Band Rifles\nEgg and Spoon Race\nStilts Walk\nMilk Bucket Carry\nTrundling Hoop Race\nJump Rope Challenge\nTrap\, Bat\, and Ball – Baseball\n\nDrop-in Activities \n\nNature Scavenger Hunt\nParadoxes and Puzzles\, puns and riddles\nTug of War\nStories\nMarbles\nQuoits\n9-pin
URL:https://experiencesturbridge.com/event/family-field-days-2/
LOCATION:Old Sturbridge Village\, 1 Old Sturbridge Village Road\, Sturbridge\, 01566\, United States
CATEGORIES:Special Event
ATTACH;FMTTYPE=image/jpeg:https://experiencesturbridge.com/wp-content/uploads/2026/04/2-copy.jpg
ORGANIZER;CN="Old Sturbridge Village":MAILTO:kmorrill@osv.org
END:VEVENT
BEGIN:VEVENT
DTSTART;TZID=America/New_York:20260418T000000
DTEND;TZID=America/New_York:20260426T000000
DTSTAMP:20260424T062736
CREATED:20260408T150206Z
LAST-MODIFIED:20260408T150206Z
UID:10002964-1776470400-1777161600@experiencesturbridge.com
SUMMARY:More Green\, Less Screen Letterboxing Challenge
DESCRIPTION:Leave your devices behind and get OUTSIDE this April vacation week! Explore the outdoors while hunting for hidden letterboxes on properties conserved by Opacum Land Trust and local historical sites beginning Saturday\, April 18 and ending Sunday\, April 26. Are you up for the challenge?  \nWhat is letterboxing? It’s like a treasure hunt! Follow clues to find hidden letterboxes\, collect stamps in your logbook\, and enter to win prizes.    \nHow it works:   \n\nForm a team with your family\, your friends\, your book club\, or even your dog – EVERYONE is welcome to participate! \n\n\nRegister your team to receive a set of clues to letterboxes hidden on up to 13 different properties conserved by Opacum and local historical sites. There will be letterboxes for all abilities – clues will include an estimated distance and difficulty so you can choose challenges that are right for you.  \n\n\nLetterboxes will be hidden on properties and historical sites in Brimfield\, Holland\, Monson\, Southbridge\, and Sturbridge.  \n\n\nEach letterbox you find will have a rubber stamp\, ink pad\, and logbook inside. You bring a logbook with you (any notebook works!). When you find the letterbox\, stamp the stamp in your book to prove you’ve found it.   \n\n\nComplete at least 3 boxes between April 18th and April 26th to be entered in a drawing for a prize. \n\n\nFind more boxes? Get more entries! 5 or more boxes = 2 entries\, 10 or more boxes = 5 entries.  \nAt the end of the week\, submit a photo of all of the stamps that you’ve collected to be entered into the drawing.\n\n\nBest of all\, it’s FREE!!!   \n\nGrab your kids\, your dog\, or a hiking partner\, bring your walking shoes\, and discover the fun in your own backyard. Perfect for all ages and abilities! 
URL:https://experiencesturbridge.com/event/more-green-less-screen-letterboxing-challenge/
LOCATION:MA
CATEGORIES:Special Event
ATTACH;FMTTYPE=image/jpeg:https://experiencesturbridge.com/wp-content/uploads/2026/04/Letter-box-flyer-final-scaled.jpg
END:VEVENT
BEGIN:VEVENT
DTSTART;TZID=America/New_York:20260424T070000
DTEND;TZID=America/New_York:20260424T210000
DTSTAMP:20260424T062736
CREATED:20260410T160900Z
LAST-MODIFIED:20260410T160900Z
UID:10002981-1777014000-1777064400@experiencesturbridge.com
SUMMARY:Speed Dating (Ages 35-49) at Deep Roots Distillery
DESCRIPTION:Ready to meet local singles face-to-face? Join us for a fun\, low-pressure evening of meaningful connections! \nDitch the swiping and come meet real\, local singles in person! \nIf you’re tired of the same old routine\, this is your chance to mix things up\, meet new people\, and have fun putting yourself out there! Our speed dating events make it easy and natural to spark connections—without the pressure of a full date. \nNote on Age Range: While this event is primarily focused on singles in the age range specified in the title\, this is only a suggestion—not a strict requirement. If you’re slightly outside this range but feel you’d connect well with this group\, you’re welcome to join! Our goal is to create well-balanced events where everyone can meet compatible matches. \nHow the Evening Unfolds\nCasual Mixer Kickoff: The night starts with a relaxed mingle where you can grab a drink (not included\, but encouraged) and ease into the atmosphere before the dating rounds begin. \nGuided Conversations: Not great at starting conversations? No worries! We provide an icebreaker question each round\, and our high-energy host keeps things flowing smoothly. \nPerfect-Length Connections: You’ll have just enough time with each person to feel out their vibe before moving on to meet someone new—all in a positive\, supportive\, lighthearted\, pressure-free atmosphere. \nSimple Matching System: After each round\, simply mark “friend\,” “date\,” or “none” on our easy matching system. \nMatch Contact Info Disclaimer: \nBy attending this event\, you agree that if you have a mutual match with another participant\, both of your contact details (email and phone number\, if provided) will be shared with each other after the event so you can connect directly. \nContact information is only shared for mutual matches. \nWe believe in helping people meet in real life.. not keeping you on another messaging platform. \nImportant Details\nArrive 15–30 minutes early to settle in! We start promptly\, and late arrivals may not be accommodated. \nRemember: This event is all about active listening\, learning\, and exploring connections. While many attendees do meet someone special\, the key to enjoying the experience is focusing on meeting new people without specific expectations. \nSpace is limited to ensure quality interactions and a balanced group. Reserve your spot now! \nFollow us @sipsandsparks on social media for event updates\, sneak peeks\, and surprise promo codes! \nEvent Terms & Policies\nImportant Safety Notice \nPlease read carefully: Sips and Sparks does NOT conduct background checks\, verify identities\, or screen participants in any way. Just like any dating app or social platform\, it is entirely your responsibility to exercise caution and perform your own due diligence on anyone you meet at our events. We strongly encourage you to meet in public places for any follow-up dates and never share sensitive personal information (home address\, financial details\, etc.) \nYour safety is your responsibility. By attending\, you acknowledge that you understand these risks. \nAge Guidelines & Inclusivity \nThe age range for this event is a general recommendation. We welcome all participants regardless of age or gender and do not verify this information at check-in. Our goal is to create a welcoming and enjoyable environment for everyone. \nMatch Contact Info Disclaimer: \nBy attending this event\, you agree that if you have a mutual match with another participant\, both of your contact details (email and phone number\, if provided) will be shared with each other after the event so you can connect directly. Contact information is only shared for mutual matches.\nWe believe in helping people meet in real life.. not keeping you on another messaging platform. \nEvent Changes & Cancellations \nWe reserve the right to postpone or cancel events with insufficient registrations. If this happens\, you’ll receive either a full refund or the option to transfer your ticket to another event. \nWaitlist Information \nWhen events sell out\, join our waitlist through Eventbrite. You’ll receive an email notification when spots become available and can then secure your ticket through our Eventbrite page. Important: Tickets must be purchased in advance through Eventbrite only. \nAccessibility Notice \nSome venues may not have elevators or full accessibility features. If you need specific accommodations\, please contact us at sipsandsparksevents@gmail.com before purchasing your ticket so we can confirm availability at that location. \nSafety & Liability \nBy attending\, you agree that participation is at your own risk. You release Sips and Sparks LLC\, our team\, venues\, and partners from liability for any accidents\, injuries\, or damages that may occur during or after the event\, including from interactions with other participants. \nPhotography & Social Media \nWe may take photos and videos during events for promotional purposes. By attending\, you consent to being photographed and having your image used in our marketing materials. \nDon’t want to be in photos? Simply let our event host know when you arrive\, and we’ll make sure to respect your privacy. \nRefund Policy \n\n1+ week before event: Full refund guaranteed\nLess than 1 week: No refunds or transfers\, but we may be able to provide a discount code for your next event\, depending on the circumstances\nMedical emergencies only: Within 1 week\, we’ll issue a one-time refund for illness\, medical emergency\, or death in the family with proper documentation\n\nQuestions? Email us at sipsandsparksevents@gmail.com
URL:https://experiencesturbridge.com/event/speed-dating-ages-35-49-at-deep-roots-distillery/
LOCATION:Deep Roots Distillery USA\, 559 Main St.\, Unit 209\, Fiskdale\, 01518
ATTACH;FMTTYPE=image/jpeg:https://experiencesturbridge.com/wp-content/uploads/2026/04/657642404_122292433280067468_1397785806137665706_n.jpg
ORGANIZER;CN="Deep Roots Distillery USA":MAILTO:Deeprootsdistilleryusa@gmail.com
END:VEVENT
BEGIN:VEVENT
DTSTART;TZID=America/New_York:20260424T180000
DTEND;TZID=America/New_York:20260424T200000
DTSTAMP:20260424T062736
CREATED:20260420T162851Z
LAST-MODIFIED:20260420T162851Z
UID:10003008-1777053600-1777060800@experiencesturbridge.com
SUMMARY:Music Bingo at Hardwick
DESCRIPTION:🎶 Music Bingo at Hardwick Winery 🎶 \nSip wine\, jam to your favorite songs\, and win prizes! Bring your friends! \n📅 Friday Nights | ⏰ 6:00pm \n🍷 Wine • 🎵 Music • 🏆 Prizes
URL:https://experiencesturbridge.com/event/music-bingo-at-hardwick/
LOCATION:Hardwick Vineyard & Winery\, 3305 Greenwich Rd\, Hardwick\, MA\, United States\, 01082\, Hardwick\, MA\, 01082\, United States
ATTACH;FMTTYPE=image/jpeg:https://experiencesturbridge.com/wp-content/uploads/2026/04/654843162_1580076483632804_7211942743445034832_n-scaled.jpg
ORGANIZER;CN="Hardwick Vineyard & Winery":MAILTO:info@hardwickwinery.com
END:VEVENT
BEGIN:VEVENT
DTSTART;TZID=America/New_York:20260424T190000
DTEND;TZID=America/New_York:20260424T220000
DTSTAMP:20260424T062736
CREATED:20260414T153940Z
LAST-MODIFIED:20260414T154018Z
UID:10002989-1777057200-1777068000@experiencesturbridge.com
SUMMARY:North County Strangers (Live Music) at Timberyard Brewing Company
DESCRIPTION:An amazing variety of great blues\, country and R&B. \nThe Band: NORTH COUNTY STRANGERS \nNorth County Strangers returns to Timberyard Brewing Company. Come on out to enjoy an amazing variety of great brews made with locally-sourced ingredients\, and an amazing variety of great blues\, country and R&B made with locally-sourced musicians: \nBob Sarkala\, guitar\nBill Fisher\, bass\nKent Byron\, drums\,\nand Arny Spielberg\, guitar and vocals. \nFree/No Cover! \nTimberyard Brewing Company offers a cozy and laid-back atmosphere\, perfect for enjoying live music. \nThe Venue \nA New England Craft Brewery with a spacious taproom and outdoor beer garden\, full kitchen menu\, family-friendly atmosphere\, and free live music on the weekends. Space available for private events. \nJust a 10 mile drive from Worcester\n20+ Beers on Tap\nFull Kitchen Menu \nTimberyard Brewing Company\n555 East Main St (Rt. 9)\nEast Brookfield\, MA 01515
URL:https://experiencesturbridge.com/event/north-county-strangers-live-music-at-timberyard-brewing-company/
LOCATION:Timberyard Brewing Company\, 555 East Main St.\, East Brookfield\, MA\, NY\, 01515\, United States
ATTACH;FMTTYPE=image/jpeg:https://experiencesturbridge.com/wp-content/uploads/2026/04/659058440_1542986274495065_8699555550599469647_n.jpg
END:VEVENT
BEGIN:VEVENT
DTSTART;TZID=America/New_York:20260424T200000
DTEND;TZID=America/New_York:20260424T213000
DTSTAMP:20260424T062736
CREATED:20260416T160755Z
LAST-MODIFIED:20260416T160755Z
UID:10003004-1777060800-1777066200@experiencesturbridge.com
SUMMARY:Next Stop Comedy at Altruist Brewing Company
DESCRIPTION:Next Stop! – A Comedy Show Near You! Join us at Altruist Brewing for a brand new line-up of comedians every time! \nNext Stop Comedy brings top stand-up comedians to your favorite local venues! Each show features a novel line-up with acts seen on TV and heard on your favorite podcasts. \nJoin us at Altruist Brewing Company in Sturbridge\, MA! – 559 Main St\, Sturbridge\, MA 01518 \nFor more info\, check out our website! – nextstopcomedy.com \n*Formerly Boston Comedy Club\nFeatured Comics:\nMike Massaro\nMike Earley\nAllan Fuks
URL:https://experiencesturbridge.com/event/next-stop-comedy-at-altruist-brewing-company/
LOCATION:Altruist Brewing Company\, 559 Main Street\, Sturbridge\, MA\, 01518\, United States
ATTACH;FMTTYPE=image/webp:https://experiencesturbridge.com/wp-content/uploads/2026/04/image.webp
END:VEVENT
END:VCALENDAR